Back to Multiple platform build/check report for BioC 3.13 |
|
This page was generated on 2021-01-24 12:30:23 -0500 (Sun, 24 Jan 2021).
TO THE DEVELOPERS/MAINTAINERS OF THE geneClassifiers PACKAGE: Please make sure to use the following settings in order to reproduce any error or warning you see on this page. |
Package 675/1932 | Hostname | OS / Arch | INSTALL | BUILD | CHECK | BUILD BIN | ||||||
geneClassifiers 1.15.0 R Kuiper
| malbec2 | Linux (Ubuntu 20.04.1 LTS) / x86_64 | OK | OK | [ OK ] | ![]() | ||||||
tokay2 | Windows Server 2012 R2 Standard / x64 | OK | OK | OK | OK | ![]() | ||||||
riesling1 | Windows Server 2019 Standard / x64 | OK | OK | OK | OK | |||||||
machv2 | macOS 10.14.6 Mojave / x86_64 | OK | OK | OK | OK | ![]() |
Package: geneClassifiers |
Version: 1.15.0 |
Command: /home/biocbuild/bbs-3.13-bioc/R/bin/R CMD check --install=check:geneClassifiers.install-out.txt --library=/home/biocbuild/bbs-3.13-bioc/R/library --no-vignettes --timings geneClassifiers_1.15.0.tar.gz |
StartedAt: 2021-01-24 01:36:26 -0500 (Sun, 24 Jan 2021) |
EndedAt: 2021-01-24 01:37:10 -0500 (Sun, 24 Jan 2021) |
EllapsedTime: 43.3 seconds |
RetCode: 0 |
Status: OK |
CheckDir: geneClassifiers.Rcheck |
Warnings: 0 |
############################################################################## ############################################################################## ### ### Running command: ### ### /home/biocbuild/bbs-3.13-bioc/R/bin/R CMD check --install=check:geneClassifiers.install-out.txt --library=/home/biocbuild/bbs-3.13-bioc/R/library --no-vignettes --timings geneClassifiers_1.15.0.tar.gz ### ############################################################################## ############################################################################## * using log directory ‘/home/biocbuild/bbs-3.13-bioc/meat/geneClassifiers.Rcheck’ * using R Under development (unstable) (2021-01-05 r79797) * using platform: x86_64-pc-linux-gnu (64-bit) * using session charset: UTF-8 * using option ‘--no-vignettes’ * checking for file ‘geneClassifiers/DESCRIPTION’ ... OK * checking extension type ... Package * this is package ‘geneClassifiers’ version ‘1.15.0’ * package encoding: UTF-8 * checking package namespace information ... OK * checking package dependencies ... OK * checking if this is a source package ... OK * checking if there is a namespace ... OK * checking for hidden files and directories ... NOTE Found the following hidden files and directories: .git_fetch_output.txt .git_merge_output.txt These were most likely included in error. See section ‘Package structure’ in the ‘Writing R Extensions’ manual. * checking for portable file names ... OK * checking for sufficient/correct file permissions ... OK * checking whether package ‘geneClassifiers’ can be installed ... OK * checking installed package size ... OK * checking package directory ... OK * checking ‘build’ directory ... OK * checking DESCRIPTION meta-information ... OK * checking top-level files ... OK * checking for left-over files ... OK * checking index information ... OK * checking package subdirectories ... OK * checking R files for non-ASCII characters ... OK * checking R files for syntax errors ... OK * checking whether the package can be loaded ... OK * checking whether the package can be loaded with stated dependencies ... OK * checking whether the package can be unloaded cleanly ... OK * checking whether the namespace can be loaded with stated dependencies ... OK * checking whether the namespace can be unloaded cleanly ... OK * checking dependencies in R code ... OK * checking S3 generic/method consistency ... OK * checking replacement functions ... OK * checking foreign function calls ... OK * checking R code for possible problems ... OK * checking Rd files ... OK * checking Rd metadata ... OK * checking Rd cross-references ... OK * checking for missing documentation entries ... OK * checking for code/documentation mismatches ... OK * checking Rd \usage sections ... OK * checking Rd contents ... OK * checking for unstated dependencies in examples ... OK * checking contents of ‘data’ directory ... OK * checking data for non-ASCII characters ... OK * checking data for ASCII and uncompressed saves ... OK * checking R/sysdata.rda ... OK * checking files in ‘vignettes’ ... OK * checking examples ... OK * checking for unstated dependencies in ‘tests’ ... OK * checking tests ... Running ‘testthat.R’ OK * checking for unstated dependencies in vignettes ... OK * checking package vignettes in ‘inst/doc’ ... OK * checking running R code from vignettes ... SKIPPED * checking re-building of vignette outputs ... SKIPPED * checking PDF version of manual ... OK * DONE Status: 1 NOTE See ‘/home/biocbuild/bbs-3.13-bioc/meat/geneClassifiers.Rcheck/00check.log’ for details.
geneClassifiers.Rcheck/00install.out
############################################################################## ############################################################################## ### ### Running command: ### ### /home/biocbuild/bbs-3.13-bioc/R/bin/R CMD INSTALL geneClassifiers ### ############################################################################## ############################################################################## * installing to library ‘/home/biocbuild/bbs-3.13-bioc/R/library’ * installing *source* package ‘geneClassifiers’ ... ** using staged installation ** R ** data *** moving datasets to lazyload DB ** byte-compile and prepare package for lazy loading ** help *** installing help indices ** building package indices ** installing vignettes ** testing if installed package can be loaded from temporary location ** testing if installed package can be loaded from final location ** testing if installed package keeps a record of temporary installation path * DONE (geneClassifiers)
geneClassifiers.Rcheck/tests/testthat.Rout
R Under development (unstable) (2021-01-05 r79797) -- "Unsuffered Consequences" Copyright (C) 2021 The R Foundation for Statistical Computing Platform: x86_64-pc-linux-gnu (64-bit) R is free software and comes with ABSOLUTELY NO WARRANTY. You are welcome to redistribute it under certain conditions. Type 'license()' or 'licence()' for distribution details. R is a collaborative project with many contributors. Type 'contributors()' for more information and 'citation()' on how to cite R or R packages in publications. Type 'demo()' for some demos, 'help()' for on-line help, or 'help.start()' for an HTML browser interface to help. Type 'q()' to quit R. > library(testthat) > library(geneClassifiers) > > test_check("geneClassifiers") [ FAIL 0 | WARN 0 | SKIP 0 | PASS 191 ] > > proc.time() user system elapsed 4.676 0.124 4.784
geneClassifiers.Rcheck/geneClassifiers-Ex.timings
name | user | system | elapsed | |
bracket-methods | 0.044 | 0.004 | 0.047 | |
dim-methods | 0.019 | 0.001 | 0.019 | |
getBatchCorrection-methods | 0.417 | 0.019 | 0.438 | |
getCitations-methods | 0.002 | 0.000 | 0.003 | |
getClassifications-methods | 0.033 | 0.001 | 0.034 | |
getClassifier-methods | 0.003 | 0.000 | 0.004 | |
getDecisionBoundaries-methods | 0.002 | 0.000 | 0.003 | |
getDescription-methods | 0.002 | 0.000 | 0.003 | |
getEventChain-methods | 0.002 | 0.000 | 0.002 | |
getIntercept-methods | 0.002 | 0.000 | 0.002 | |
getMeans-methods | 0.004 | 0.000 | 0.003 | |
getName-methods | 0.003 | 0.000 | 0.003 | |
getNormalizationMethod-methods | 0.042 | 0.008 | 0.050 | |
getProbeNames-methods | 0.003 | 0.000 | 0.004 | |
getScores-methods | 0.036 | 0.000 | 0.037 | |
getSds-methods | 0.003 | 0.000 | 0.004 | |
getTargetValue-methods | 0.015 | 0.000 | 0.014 | |
getTrainingData-methods | 0.061 | 0.000 | 0.060 | |
getWeightingType-methods | 0.03 | 0.00 | 0.03 | |
getWeights-methods | 0.003 | 0.000 | 0.003 | |
runClassifier-methods | 0.035 | 0.000 | 0.035 | |
setNormalizationMethod-methods | 0.035 | 0.000 | 0.035 | |
showClassifierList-methods | 0.035 | 0.000 | 0.035 | |