Back to Multiple platform build/check report for BioC 3.13
ABCDEF[G]HIJKLMNOPQRSTUVWXYZ

BUILD BIN report for geneClassifiers on machv2

This page was generated on 2021-01-25 12:42:47 -0500 (Mon, 25 Jan 2021).

TO THE DEVELOPERS/MAINTAINERS OF THE geneClassifiers PACKAGE: Please make sure to use the following settings in order to reproduce any error or warning you see on this page.
Package 675/1938HostnameOS / ArchINSTALLBUILDCHECKBUILD BIN
geneClassifiers 1.15.0
R Kuiper
Snapshot Date: 2021-01-24 14:40:26 -0500 (Sun, 24 Jan 2021)
URL: https://git.bioconductor.org/packages/geneClassifiers
Branch: master
Last Commit: 2b79514
Last Changed Date: 2020-10-27 11:21:25 -0500 (Tue, 27 Oct 2020)
malbec2 Linux (Ubuntu 20.04.1 LTS) / x86_64  OK  OK  OK UNNEEDED, same version exists in internal repository
tokay2 Windows Server 2012 R2 Standard / x64  OK  OK  OK  OK UNNEEDED, same version exists in internal repository
riesling1 Windows Server 2019 Standard / x64  OK  OK  OK  OK 
machv2 macOS 10.14.6 Mojave / x86_64  OK  OK  OK [ OK ]UNNEEDED, same version exists in internal repository

Summary

Package: geneClassifiers
Version: 1.15.0
Command: rm -rf geneClassifiers.buildbin-libdir && mkdir geneClassifiers.buildbin-libdir && /Users/biocbuild/BBS/utils/build-universal.sh geneClassifiers_1.15.0.tar.gz /Library/Frameworks/R.framework/Versions/Current/Resources/bin/R geneClassifiers.buildbin-libdir
StartedAt: 2021-01-25 06:17:28 -0500 (Mon, 25 Jan 2021)
EndedAt: 2021-01-25 06:17:44 -0500 (Mon, 25 Jan 2021)
EllapsedTime: 16.3 seconds
RetCode: 0
Status:  OK 
PackageFile: geneClassifiers_1.15.0.tgz
PackageFileSize: 1.789 MiB

Command output

##############################################################################
##############################################################################
###
### Running command:
###
###   rm -rf geneClassifiers.buildbin-libdir && mkdir geneClassifiers.buildbin-libdir && /Users/biocbuild/BBS/utils/build-universal.sh geneClassifiers_1.15.0.tar.gz /Library/Frameworks/R.framework/Versions/Current/Resources/bin/R geneClassifiers.buildbin-libdir
###
##############################################################################
##############################################################################


>>>>>>> 
>>>>>>> INSTALLATION WITH 'R CMD INSTALL --preclean --no-multiarch --library=geneClassifiers.buildbin-libdir geneClassifiers_1.15.0.tar.gz'
>>>>>>> 

* installing *source* package ‘geneClassifiers’ ...
** using staged installation
** R
** data
*** moving datasets to lazyload DB
** inst
** byte-compile and prepare package for lazy loading
** help
*** installing help indices
** building package indices
** installing vignettes
** testing if installed package can be loaded from temporary location
** testing if installed package can be loaded from final location
** testing if installed package keeps a record of temporary installation path
* DONE (geneClassifiers)