![]() | Name | Last modified | Size | Description |
---|---|---|---|---|
![]() | Parent Directory | - | ||
![]() | install-summary.dcf | 07-Aug-2022 00:06 | 700 | |
![]() | install-out.txt | 07-Aug-2022 00:06 | 1.9K | |
![]() | checksrc-summary.dcf | 07-Aug-2022 00:06 | 482 | |
![]() | checksrc-out.txt | 07-Aug-2022 00:06 | 3.1K | |
![]() | buildsrc-summary.dcf | 07-Aug-2022 00:06 | 484 | |
![]() | buildsrc-out.txt | 07-Aug-2022 00:06 | 879 | |
![]() | buildbin-summary.dcf | 07-Aug-2022 00:06 | 581 | |
![]() | buildbin-out.txt | 07-Aug-2022 00:06 | 1.2K | |