Back to Multiple platform build/check report for BioC 3.15
ABCDEF[G]HIJKLMNOPQRSTUVWXYZ

This page was generated on 2022-01-25 11:07:18 -0500 (Tue, 25 Jan 2022).

HostnameOSArch (*)R versionInstalled pkgs
nebbiolo1Linux (Ubuntu 20.04.4 LTS)x86_64R Under development (unstable) (2022-01-05 r81451) -- "Unsuffered Consequences" 4164
riesling1Windows Server 2019 Standardx64R Under development (unstable) (2021-11-21 r81221) -- "Unsuffered Consequences" 4059
palomino3Windows Server 2022 Datacenterx64R Under development (unstable) (2021-12-21 r81400 ucrt) -- "Unsuffered Consequences" 4001
merida1macOS 10.14.6 Mojavex86_64R Under development (unstable) (2022-01-05 r81451) -- "Unsuffered Consequences" 4118
Click on any hostname to see more info about the system (e.g. compilers)      (*) as reported by 'uname -p', except on Windows and Mac OS X

INSTALL results for genbankr on riesling1


To the developers/maintainers of the genbankr package:
- Please allow up to 24 hours (and sometimes 48 hours) for your latest push to git@git.bioconductor.org:packages/genbankr.git to
reflect on this report. See How and When does the builder pull? When will my changes propagate? here for more information.
- Make sure to use the following settings in order to reproduce any error or warning you see on this page.

raw results

Package 713/2075HostnameOS / ArchINSTALLBUILDCHECKBUILD BIN
genbankr 1.23.0  (landing page)
Gabriel Becker
Snapshot Date: 2022-01-24 13:55:18 -0500 (Mon, 24 Jan 2022)
git_url: https://git.bioconductor.org/packages/genbankr
git_branch: master
git_last_commit: 1300dcf
git_last_commit_date: 2021-10-26 12:27:18 -0500 (Tue, 26 Oct 2021)
nebbiolo1Linux (Ubuntu 20.04.4 LTS) / x86_64  OK    OK    OK  UNNEEDED, same version is already published
riesling1Windows Server 2019 Standard / x64  OK    OK    OK    OK  
palomino3Windows Server 2022 Datacenter / x64  OK    OK    OK    OK  NO, package depends on 'BiocGenerics' which is not available
merida1macOS 10.14.6 Mojave / x86_64  OK    OK    OK    OK  UNNEEDED, same version is already published

Summary

Package: genbankr
Version: 1.23.0
Command: D:\biocbuild\bbs-3.15-bioc\R\bin\R.exe CMD INSTALL genbankr
StartedAt: 2022-01-24 16:04:23 -0500 (Mon, 24 Jan 2022)
EndedAt: 2022-01-24 16:05:12 -0500 (Mon, 24 Jan 2022)
EllapsedTime: 48.9 seconds
RetCode: 0
Status:   OK  

Command output

##############################################################################
##############################################################################
###
### Running command:
###
###   D:\biocbuild\bbs-3.15-bioc\R\bin\R.exe CMD INSTALL genbankr
###
##############################################################################
##############################################################################


* installing to library 'D:/biocbuild/bbs-3.15-bioc/R/library'
* installing *source* package 'genbankr' ...
** using staged installation
** R
** inst
** byte-compile and prepare package for lazy loading
** help
*** installing help indices
  converting help for package 'genbankr'
    finding HTML links ... done
    GBAccession                             html  
    GenBank-classes                         html  
    api-methods                             html  
    gbk-api                                 html  
    gbkfile                                 html  
    import                                  html  
    intergenic                              html  
    make_gbobjs                             html  
    otherFeatures                           html  
    parseGenBank                            html  
    readGenBank                             html  
    txdb                                    html  
    variants                                html  
** building package indices
** installing vignettes
** testing if installed package can be loaded from temporary location
** testing if installed package can be loaded from final location
** testing if installed package keeps a record of temporary installation path
* DONE (genbankr)
Making 'packages.html' ... done