Back to Multiple platform build/check report for BioC 3.15
ABCDEF[G]HIJKLMNOPQRSTUVWXYZ

This page was generated on 2022-01-17 11:11:08 -0500 (Mon, 17 Jan 2022).

HostnameOSArch (*)R versionInstalled pkgs
nebbiolo1Linux (Ubuntu 20.04.4 LTS)x86_64R Under development (unstable) (2022-01-05 r81451) -- "Unsuffered Consequences" 4161
riesling1Windows Server 2019 Standardx64R Under development (unstable) (2021-11-21 r81221) -- "Unsuffered Consequences" 4056
palomino3Windows Server 2022 Datacenterx64R Under development (unstable) (2021-12-21 r81400 ucrt) -- "Unsuffered Consequences" 3998
merida1macOS 10.14.6 Mojavex86_64R Under development (unstable) (2022-01-05 r81451) -- "Unsuffered Consequences" 4115
Click on any hostname to see more info about the system (e.g. compilers)      (*) as reported by 'uname -p', except on Windows and Mac OS X

CHECK results for genbankr on merida1


To the developers/maintainers of the genbankr package:
- Please allow up to 24 hours (and sometimes 48 hours) for your latest push to git@git.bioconductor.org:packages/genbankr.git to
reflect on this report. See How and When does the builder pull? When will my changes propagate? here for more information.
- Make sure to use the following settings in order to reproduce any error or warning you see on this page.

raw results

Package 713/2074HostnameOS / ArchINSTALLBUILDCHECKBUILD BIN
genbankr 1.23.0  (landing page)
Gabriel Becker
Snapshot Date: 2022-01-16 13:55:18 -0500 (Sun, 16 Jan 2022)
git_url: https://git.bioconductor.org/packages/genbankr
git_branch: master
git_last_commit: 1300dcf
git_last_commit_date: 2021-10-26 12:27:18 -0500 (Tue, 26 Oct 2021)
nebbiolo1Linux (Ubuntu 20.04.4 LTS) / x86_64  OK    OK    OK  UNNEEDED, same version is already published
riesling1Windows Server 2019 Standard / x64  OK    OK    OK    OK  
palomino3Windows Server 2022 Datacenter / x64  OK    OK    OK    OK  NO, package depends on 'BiocGenerics' which is not available
merida1macOS 10.14.6 Mojave / x86_64  OK    OK    OK    OK  UNNEEDED, same version is already published

Summary

Package: genbankr
Version: 1.23.0
Command: /Library/Frameworks/R.framework/Resources/bin/R CMD check --install=check:genbankr.install-out.txt --library=/Library/Frameworks/R.framework/Resources/library --no-vignettes --timings genbankr_1.23.0.tar.gz
StartedAt: 2022-01-17 01:01:47 -0500 (Mon, 17 Jan 2022)
EndedAt: 2022-01-17 01:09:48 -0500 (Mon, 17 Jan 2022)
EllapsedTime: 481.0 seconds
RetCode: 0
Status:   OK  
CheckDir: genbankr.Rcheck
Warnings: 0

Command output

##############################################################################
##############################################################################
###
### Running command:
###
###   /Library/Frameworks/R.framework/Resources/bin/R CMD check --install=check:genbankr.install-out.txt --library=/Library/Frameworks/R.framework/Resources/library --no-vignettes --timings genbankr_1.23.0.tar.gz
###
##############################################################################
##############################################################################


* using log directory ‘/Users/biocbuild/bbs-3.15-bioc/meat/genbankr.Rcheck’
* using R Under development (unstable) (2022-01-05 r81451)
* using platform: x86_64-apple-darwin17.0 (64-bit)
* using session charset: UTF-8
* using option ‘--no-vignettes’
* checking for file ‘genbankr/DESCRIPTION’ ... OK
* this is package ‘genbankr’ version ‘1.23.0’
* checking package namespace information ... OK
* checking package dependencies ... OK
* checking if this is a source package ... OK
* checking if there is a namespace ... OK
* checking for hidden files and directories ... NOTE
Found the following hidden files and directories:
  .git_fetch_output.txt
  .git_merge_output.txt
These were most likely included in error. See section ‘Package
structure’ in the ‘Writing R Extensions’ manual.
* checking for portable file names ... OK
* checking for sufficient/correct file permissions ... OK
* checking whether package ‘genbankr’ can be installed ... OK
* checking installed package size ... OK
* checking package directory ... OK
* checking ‘build’ directory ... OK
* checking DESCRIPTION meta-information ... OK
* checking top-level files ... OK
* checking for left-over files ... OK
* checking index information ... OK
* checking package subdirectories ... OK
* checking R files for non-ASCII characters ... OK
* checking R files for syntax errors ... OK
* checking whether the package can be loaded ... OK
* checking whether the package can be loaded with stated dependencies ... OK
* checking whether the package can be unloaded cleanly ... OK
* checking whether the namespace can be loaded with stated dependencies ... OK
* checking whether the namespace can be unloaded cleanly ... OK
* checking dependencies in R code ... OK
* checking S3 generic/method consistency ... OK
* checking replacement functions ... OK
* checking foreign function calls ... OK
* checking R code for possible problems ... OK
* checking Rd files ... OK
* checking Rd metadata ... OK
* checking Rd cross-references ... OK
* checking for missing documentation entries ... OK
* checking for code/documentation mismatches ... OK
* checking Rd \usage sections ... OK
* checking Rd contents ... OK
* checking for unstated dependencies in examples ... OK
* checking files in ‘vignettes’ ... OK
* checking examples ... OK
* checking for unstated dependencies in ‘tests’ ... OK
* checking tests ...
  Running ‘runTests.R’
 OK
* checking for unstated dependencies in vignettes ... OK
* checking package vignettes in ‘inst/doc’ ... OK
* checking running R code from vignettes ... SKIPPED
* checking re-building of vignette outputs ... SKIPPED
* checking PDF version of manual ... OK
* DONE

Status: 1 NOTE
See
  ‘/Users/biocbuild/bbs-3.15-bioc/meat/genbankr.Rcheck/00check.log’
for details.



Installation output

genbankr.Rcheck/00install.out

##############################################################################
##############################################################################
###
### Running command:
###
###   /Library/Frameworks/R.framework/Resources/bin/R CMD INSTALL genbankr
###
##############################################################################
##############################################################################


* installing to library ‘/Library/Frameworks/R.framework/Versions/4.2/Resources/library’
* installing *source* package ‘genbankr’ ...
** using staged installation
** R
** inst
** byte-compile and prepare package for lazy loading
** help
*** installing help indices
** building package indices
** installing vignettes
** testing if installed package can be loaded from temporary location
** testing if installed package can be loaded from final location
** testing if installed package keeps a record of temporary installation path
* DONE (genbankr)

Tests output

genbankr.Rcheck/tests/runTests.Rout


R Under development (unstable) (2022-01-05 r81451) -- "Unsuffered Consequences"
Copyright (C) 2022 The R Foundation for Statistical Computing
Platform: x86_64-apple-darwin17.0 (64-bit)

R is free software and comes with ABSOLUTELY NO WARRANTY.
You are welcome to redistribute it under certain conditions.
Type 'license()' or 'licence()' for distribution details.

R is a collaborative project with many contributors.
Type 'contributors()' for more information and
'citation()' on how to cite R or R packages in publications.

Type 'demo()' for some demos, 'help()' for on-line help, or
'help.start()' for an HTML browser interface to help.
Type 'q()' to quit R.

> BiocGenerics:::testPackage("genbankr")
Annotations don't have 'locus_tag' label, using 'gene' as gene_id column
Annotations don't have 'locus_tag' label, using 'gene' as gene_id column
No exons read from genbank file. Assuming sections of CDS are full exons
No transcript features (mRNA) found, using spans of CDSs
No exons read from genbank file. Assuming sections of CDS are full exons
No exons read from genbank file. Assuming sections of CDS are full exons
No exons read from genbank file. Assuming sections of CDS are full exons
No exons read from genbank file. Assuming sections of CDS are full exons
No exons read from genbank file. Assuming sections of CDS are full exons
No transcript features (mRNA) found, using spans of CDSs
No exons read from genbank file. Assuming sections of CDS are full exons
No transcript features (mRNA) found, using spans of CDSs
No exons read from genbank file. Assuming sections of CDS are full exons
No exons read from genbank file. Assuming sections of CDS are full exons
Annotations don't have 'locus_tag' label, using 'gene' as gene_id column
No exons read from genbank file. Assuming sections of CDS are full exons
Annotations don't have 'locus_tag' label, using 'gene' as gene_id column
Annotations don't have 'locus_tag' label, using 'gene' as gene_id column
No exons read from genbank file. Assuming sections of CDS are full exons
No transcript features (mRNA) found, using spans of CDSs


RUNIT TEST PROTOCOL -- Mon Jan 17 01:09:39 2022 
*********************************************** 
Number of test functions: 9 
Number of errors: 0 
Number of failures: 0 

 
1 Test Suite : 
genbankr RUnit Tests - 9 test functions, 0 errors, 0 failures
Number of test functions: 9 
Number of errors: 0 
Number of failures: 0 
Warning messages:
1: In readLines(file) :
  incomplete final line found on '/Library/Frameworks/R.framework/Versions/4.2/Resources/library/genbankr/unitTests/compjoin.gbk'
2: In fill_stack_df(rawvars, sqinfo = sqinfo) :
  Got unexpected multi-value field(s) [ note ]. The resulting column(s) will be of class CharacterList, rather than vector(s). Please contact the maintainer if multi-valuedness is expected/meaningful for the listed field(s).
3: In fill_stack_df(rawvars, sqinfo = sqinfo) :
  Got unexpected multi-value field(s) [ note ]. The resulting column(s) will be of class CharacterList, rather than vector(s). Please contact the maintainer if multi-valuedness is expected/meaningful for the listed field(s).
4: In make_feat_gr(str = rngstr, chr = chr, ats = c(type = type, attrs),  :
  Incomplete feature annotation detected. Omitting feature at <1..1353
5: In make_feat_gr(str = rngstr, chr = chr, ats = c(type = type, attrs),  :
  Incomplete feature annotation detected. Omitting feature at 689..>734
6: This class is extending the deprecated RTLFile class from rtracklayer. Use BiocFile from BiocIO in place of RTLFile. 
7: In make_feat_gr(str = rngstr, chr = chr, ats = c(type = type, attrs),  :
  Incomplete feature annotation detected. Omitting feature at 5..>660
8: In readLines(file) :
  incomplete final line found on '/Library/Frameworks/R.framework/Versions/4.2/Resources/library/genbankr/unitTests/compjoin.gbk'
> 
> proc.time()
   user  system elapsed 
 28.350   1.136  29.515 

Example timings

genbankr.Rcheck/genbankr-Ex.timings

nameusersystemelapsed
GBAccession0.0040.0000.004
GenBank-classes4.6770.2304.917
api-methods3.1070.1083.226
gbk-api2.8400.0072.851
gbkfile2.8320.0052.841
intergenic3.0380.0073.049
make_gbobjs2.7920.0062.801
otherFeatures2.8050.0082.818
parseGenBank1.6740.0051.686
readGenBank2.7390.0132.757
txdb0.9560.0040.961
variants2.8450.0072.856