Name | Last modified | Size | Description | |
---|---|---|---|---|
Parent Directory | - | |||
install-summary.dcf | 18-May-2024 00:38 | 271 | ||
install-out.txt | 18-May-2024 00:38 | 4.4K | ||
checksrc-summary.dcf | 18-May-2024 00:38 | 454 | ||
checksrc-out.txt | 18-May-2024 00:38 | 15K | ||
buildsrc-summary.dcf | 18-May-2024 00:38 | 430 | ||
buildsrc-out.txt | 18-May-2024 00:38 | 883 | ||
buildbin-summary.dcf | 18-May-2024 00:38 | 535 | ||
buildbin-out.txt | 18-May-2024 00:38 | 4.6K | ||