Back to Multiple platform build/check report for BioC 3.15
ABCDEF[G]HIJKLMNOPQRSTUVWXYZ

This page was generated on 2022-01-25 11:07:19 -0500 (Tue, 25 Jan 2022).

HostnameOSArch (*)R versionInstalled pkgs
nebbiolo1Linux (Ubuntu 20.04.4 LTS)x86_64R Under development (unstable) (2022-01-05 r81451) -- "Unsuffered Consequences" 4164
riesling1Windows Server 2019 Standardx64R Under development (unstable) (2021-11-21 r81221) -- "Unsuffered Consequences" 4059
palomino3Windows Server 2022 Datacenterx64R Under development (unstable) (2021-12-21 r81400 ucrt) -- "Unsuffered Consequences" 4001
merida1macOS 10.14.6 Mojavex86_64R Under development (unstable) (2022-01-05 r81451) -- "Unsuffered Consequences" 4118
Click on any hostname to see more info about the system (e.g. compilers)      (*) as reported by 'uname -p', except on Windows and Mac OS X

CHECK results for geNetClassifier on riesling1


To the developers/maintainers of the geNetClassifier package:
- Please allow up to 24 hours (and sometimes 48 hours) for your latest push to git@git.bioconductor.org:packages/geNetClassifier.git to
reflect on this report. See How and When does the builder pull? When will my changes propagate? here for more information.
- Make sure to use the following settings in order to reproduce any error or warning you see on this page.

raw results

Package 734/2075HostnameOS / ArchINSTALLBUILDCHECKBUILD BIN
geNetClassifier 1.35.0  (landing page)
Sara Aibar
Snapshot Date: 2022-01-24 13:55:18 -0500 (Mon, 24 Jan 2022)
git_url: https://git.bioconductor.org/packages/geNetClassifier
git_branch: master
git_last_commit: fd508f1
git_last_commit_date: 2021-10-26 12:07:41 -0500 (Tue, 26 Oct 2021)
nebbiolo1Linux (Ubuntu 20.04.4 LTS) / x86_64  OK    OK    OK  UNNEEDED, same version is already published
riesling1Windows Server 2019 Standard / x64  OK    OK    OK    OK  
palomino3Windows Server 2022 Datacenter / x64  OK    OK    OK    OK  NO, package depends on 'Biobase' which is not available
merida1macOS 10.14.6 Mojave / x86_64  OK    OK    OK    OK  UNNEEDED, same version is already published

Summary

Package: geNetClassifier
Version: 1.35.0
Command: D:\biocbuild\bbs-3.15-bioc\R\bin\R.exe CMD check --no-multiarch --install=check:geNetClassifier.install-out.txt --library=D:\biocbuild\bbs-3.15-bioc\R\library --no-vignettes --timings geNetClassifier_1.35.0.tar.gz
StartedAt: 2022-01-24 18:58:10 -0500 (Mon, 24 Jan 2022)
EndedAt: 2022-01-24 18:59:22 -0500 (Mon, 24 Jan 2022)
EllapsedTime: 72.2 seconds
RetCode: 0
Status:   OK  
CheckDir: geNetClassifier.Rcheck
Warnings: 0

Command output

##############################################################################
##############################################################################
###
### Running command:
###
###   D:\biocbuild\bbs-3.15-bioc\R\bin\R.exe CMD check --no-multiarch --install=check:geNetClassifier.install-out.txt --library=D:\biocbuild\bbs-3.15-bioc\R\library --no-vignettes --timings geNetClassifier_1.35.0.tar.gz
###
##############################################################################
##############################################################################


* using log directory 'D:/biocbuild/bbs-3.15-bioc/meat/geNetClassifier.Rcheck'
* using R Under development (unstable) (2021-11-21 r81221)
* using platform: x86_64-w64-mingw32 (64-bit)
* using session charset: ISO8859-1
* using option '--no-vignettes'
* checking for file 'geNetClassifier/DESCRIPTION' ... OK
* checking extension type ... Package
* this is package 'geNetClassifier' version '1.35.0'
* checking package namespace information ... OK
* checking package dependencies ... OK
* checking if this is a source package ... OK
* checking if there is a namespace ... OK
* checking for hidden files and directories ... OK
* checking for portable file names ... OK
* checking whether package 'geNetClassifier' can be installed ... OK
* checking installed package size ... OK
* checking package directory ... OK
* checking 'build' directory ... OK
* checking DESCRIPTION meta-information ... OK
* checking top-level files ... OK
* checking for left-over files ... OK
* checking index information ... OK
* checking package subdirectories ... OK
* checking R files for non-ASCII characters ... OK
* checking R files for syntax errors ... OK
* checking whether the package can be loaded ... OK
* checking whether the package can be loaded with stated dependencies ... OK
* checking whether the package can be unloaded cleanly ... OK
* checking whether the namespace can be loaded with stated dependencies ... OK
* checking whether the namespace can be unloaded cleanly ... OK
* checking dependencies in R code ... OK
* checking S3 generic/method consistency ... OK
* checking replacement functions ... OK
* checking foreign function calls ... OK
* checking R code for possible problems ... OK
* checking Rd files ... OK
* checking Rd metadata ... OK
* checking Rd cross-references ... OK
* checking for missing documentation entries ... OK
* checking for code/documentation mismatches ... OK
* checking Rd \usage sections ... OK
* checking Rd contents ... OK
* checking for unstated dependencies in examples ... OK
* checking contents of 'data' directory ... OK
* checking data for non-ASCII characters ... OK
* checking data for ASCII and uncompressed saves ... OK
* checking files in 'vignettes' ... OK
* checking examples ... OK
* checking for unstated dependencies in 'tests' ... OK
* checking tests ...
  Running 'runTests.R'
 OK
* checking for unstated dependencies in vignettes ... OK
* checking package vignettes in 'inst/doc' ... OK
* checking running R code from vignettes ... SKIPPED
* checking re-building of vignette outputs ... SKIPPED
* checking PDF version of manual ... OK
* DONE

Status: OK


Installation output

geNetClassifier.Rcheck/00install.out

##############################################################################
##############################################################################
###
### Running command:
###
###   D:\biocbuild\bbs-3.15-bioc\R\bin\R.exe CMD INSTALL geNetClassifier
###
##############################################################################
##############################################################################


* installing to library 'D:/biocbuild/bbs-3.15-bioc/R/library'
* installing *source* package 'geNetClassifier' ...
** using staged installation
** R
** data
** inst
** byte-compile and prepare package for lazy loading
** help
*** installing help indices
  converting help for package 'geNetClassifier'
    finding HTML links ... done
    GeNetClassifierReturn-class             html  
    GeneralizationError-class               html  
    GenesNetwork-class                      html  
    GenesRanking-class                      html  
    calculateGenesRanking                   html  
    externalValidation.probMatrix           html  
    externalValidation.stats                html  
    gClasses-methods                        html  
    geNetClassifier-package                 html  
    geNetClassifier                         html  
    finding level-2 HTML links ... done

    geneSymbols                             html  
    genesDetails-methods                    html  
    getEdges-methods                        html  
    getNodes-methods                        html  
    getNumEdges-methods                     html  
    getNumNodes-methods                     html  
    getRanking-methods                      html  
    getSubNetwork-methods                   html  
    getTopRanking-methods                   html  
    leukemiasClassifier                     html  
    network2txt                             html  
    numGenes-methods                        html  
    numSignificantGenes-methods             html  
    overview-methods                        html  
    plot.GeNetClassifierReturn              html  
    plot.GenesRanking                       html  
    plotAssignments                         html  
    plotDiscriminantPower                   html  
    plotExpressionProfiles                  html  
    plotNetwork                             html  
    queryGeNetClassifier                    html  
    querySummary                            html  
    setProperties-methods                   html  
** building package indices
** installing vignettes
** testing if installed package can be loaded from temporary location
** testing if installed package can be loaded from final location
** testing if installed package keeps a record of temporary installation path
* DONE (geNetClassifier)
Making 'packages.html' ...Warning in packageDescription(i, lib.loc = lib, fields = "Title", encoding = "UTF-8") :
  DESCRIPTION file of package 'qusage' is missing or broken
 done

Tests output

geNetClassifier.Rcheck/tests/runTests.Rout


R Under development (unstable) (2021-11-21 r81221) -- "Unsuffered Consequences"
Copyright (C) 2021 The R Foundation for Statistical Computing
Platform: x86_64-w64-mingw32/x64 (64-bit)

R is free software and comes with ABSOLUTELY NO WARRANTY.
You are welcome to redistribute it under certain conditions.
Type 'license()' or 'licence()' for distribution details.

R is a collaborative project with many contributors.
Type 'contributors()' for more information and
'citation()' on how to cite R or R packages in publications.

Type 'demo()' for some demos, 'help()' for on-line help, or
'help.start()' for an HTML browser interface to help.
Type 'q()' to quit R.

> BiocGenerics:::testPackage("geNetClassifier")

Attaching package: 'BiocGenerics'

The following objects are masked from 'package:stats':

    IQR, mad, sd, var, xtabs

The following objects are masked from 'package:base':

    Filter, Find, Map, Position, Reduce, anyDuplicated, append,
    as.data.frame, basename, cbind, colnames, dirname, do.call,
    duplicated, eval, evalq, get, grep, grepl, intersect, is.unsorted,
    lapply, mapply, match, mget, order, paste, pmax, pmax.int, pmin,
    pmin.int, rank, rbind, rownames, sapply, setdiff, sort, table,
    tapply, union, unique, unsplit, which.max, which.min

Welcome to Bioconductor

    Vignettes contain introductory material; view with
    'browseVignettes()'. To cite Bioconductor, see
    'citation("Biobase")', and for packages 'citation("pkgname")'.

18:59:05 - Filtering data and calculating the genes ranking...
Warning in plotExpressionProfiles(eset = myEset, genes = rownames(myEset),  :
  The argument 'sampleLabels' had to be converted into a factor.
Warning in plotExpressionProfiles(eset = myEset, genes = rownames(myEset),  :
  The data labels vector is not named, it will be assumed the labels are in order: the first label applies to the first sample... 


RUNIT TEST PROTOCOL -- Mon Jan 24 18:59:05 2022 
*********************************************** 
Number of test functions: 3 
Number of errors: 0 
Number of failures: 0 

 
1 Test Suite : 
geNetClassifier RUnit Tests - 3 test functions, 0 errors, 0 failures
Number of test functions: 3 
Number of errors: 0 
Number of failures: 0 
Warning messages:
1: In geNetClassifier(matrix(sample(50000, 5 * 2), 5, 2), c(rep("one",  :
  The argument 'classification sampleLabels' had to be converted into a factor.
2: In geNetClassifier(matrix(sample(50000, 5 * 3), 5, 3), c(rep("one",  :
  The argument 'classification sampleLabels' had to be converted into a factor.
3: In geNetClassifier(matrix(sample(50000, 5 * 3), 5, 3), c(rep("one",  :
  The data labels vector is not named, it is assumed the labels are in order: the first label applies to the first sample... 
4: In geNetClassifier(matrix(sample(50000, 5 * 3), 5, 3), c(rep("one",  :
  It is recommended to have the *same* number of samples in each class in order to obtain balanced external validation stats.
> 
> proc.time()
   user  system elapsed 
   1.17    0.12    1.26 

Example timings

geNetClassifier.Rcheck/geNetClassifier-Ex.timings

nameusersystemelapsed
GeNetClassifierReturn-class0.400.080.49
GeneralizationError-class0.270.030.29
GenesNetwork-class2.000.752.78
GenesRanking-class0.500.050.55
calculateGenesRanking0.450.050.50
externalValidation.probMatrix0.610.030.64
externalValidation.stats0.580.060.64
gClasses-methods0.250.020.27
geNetClassifier0.130.010.14
geneSymbols0.080.000.08
genesDetails-methods0.360.020.38
getEdges-methods0.280.000.28
getNodes-methods0.270.000.26
getNumEdges-methods0.170.030.21
getNumNodes-methods0.170.020.19
getRanking-methods0.220.010.23
getSubNetwork-methods0.280.030.31
getTopRanking-methods0.190.020.21
leukemiasClassifier0.200.010.21
network2txt0.550.000.55
numGenes-methods0.180.000.19
numSignificantGenes-methods0.210.020.22
overview-methods0.20.00.2
plot.GeNetClassifierReturn2.490.282.77
plot.GenesRanking0.280.000.29
plotAssignments0.560.050.61
plotDiscriminantPower0.410.030.44
plotExpressionProfiles0.710.050.77
plotNetwork1.830.071.92
queryGeNetClassifier0.710.070.76
querySummary0.510.070.60