Back to Multiple platform build/check report for BioC 3.17
ABCDEF[G]HIJKLMNOPQRSTUVWXYZ

This page was generated on 2022-12-03 11:09:07 -0500 (Sat, 03 Dec 2022).

HostnameOSArch (*)R versionInstalled pkgs
nebbiolo1Linux (Ubuntu 22.04.1 LTS)x86_64R Under development (unstable) (2022-11-30 r83393) -- "Unsuffered Consequences" 4277
palomino3Windows Server 2022 Datacenterx64R Under development (unstable) (2022-11-30 r83393 ucrt) -- "Unsuffered Consequences" 4152
merida1macOS 10.14.6 Mojavex86_64R Under development (unstable) (2022-11-30 r83393) -- "Unsuffered Consequences" 4236
Click on any hostname to see more info about the system (e.g. compilers)      (*) as reported by 'uname -p', except on Windows and Mac OS X

BUILD BIN results for geNetClassifier on merida1


To the developers/maintainers of the geNetClassifier package:
- Please allow up to 24 hours (and sometimes 48 hours) for your latest push to git@git.bioconductor.org:packages/geNetClassifier.git to
reflect on this report. See How and When does the builder pull? When will my changes propagate? for more information.
- Make sure to use the following settings in order to reproduce any error or warning you see on this page.

raw results

Package 758/2155HostnameOS / ArchINSTALLBUILDCHECKBUILD BIN
geNetClassifier 1.39.0  (landing page)
Sara Aibar
Snapshot Date: 2022-12-02 14:00:12 -0500 (Fri, 02 Dec 2022)
git_url: https://git.bioconductor.org/packages/geNetClassifier
git_branch: master
git_last_commit: 8201393
git_last_commit_date: 2022-11-01 11:08:07 -0500 (Tue, 01 Nov 2022)
nebbiolo1Linux (Ubuntu 22.04.1 LTS) / x86_64  OK    OK    OK  UNNEEDED, same version is already published
palomino3Windows Server 2022 Datacenter / x64  OK    OK    OK    OK  UNNEEDED, same version is already published
merida1macOS 10.14.6 Mojave / x86_64  OK    OK    OK    OK  UNNEEDED, same version is already published

Summary

Package: geNetClassifier
Version: 1.39.0
Command: rm -rf geNetClassifier.buildbin-libdir && mkdir geNetClassifier.buildbin-libdir && /Users/biocbuild/BBS/utils/build-universal.sh geNetClassifier_1.39.0.tar.gz /Library/Frameworks/R.framework/Resources/bin/R geNetClassifier.buildbin-libdir
StartedAt: 2022-12-03 08:36:53 -0500 (Sat, 03 Dec 2022)
EndedAt: 2022-12-03 08:37:39 -0500 (Sat, 03 Dec 2022)
EllapsedTime: 45.5 seconds
RetCode: 0
Status:   OK  
PackageFile: geNetClassifier_1.39.0.tgz
PackageFileSize: 3.223 MiB

Command output

##############################################################################
##############################################################################
###
### Running command:
###
###   rm -rf geNetClassifier.buildbin-libdir && mkdir geNetClassifier.buildbin-libdir && /Users/biocbuild/BBS/utils/build-universal.sh geNetClassifier_1.39.0.tar.gz /Library/Frameworks/R.framework/Resources/bin/R geNetClassifier.buildbin-libdir
###
##############################################################################
##############################################################################


>>>>>>> 
>>>>>>> INSTALLATION WITH 'R CMD INSTALL --preclean --no-multiarch --library=geNetClassifier.buildbin-libdir geNetClassifier_1.39.0.tar.gz'
>>>>>>> 

* installing *source* package ‘geNetClassifier’ ...
** using staged installation
** R
** data
** inst
** byte-compile and prepare package for lazy loading
** help
*** installing help indices
** building package indices
** installing vignettes
** testing if installed package can be loaded from temporary location
** testing if installed package can be loaded from final location
** testing if installed package keeps a record of temporary installation path
* DONE (geNetClassifier)