Back to Multiple platform build/check report for BioC 3.16
ABCDEF[G]HIJKLMNOPQRSTUVWXYZ

This page was generated on 2022-06-24 11:06:28 -0400 (Fri, 24 Jun 2022).

HostnameOSArch (*)R versionInstalled pkgs
nebbiolo2Linux (Ubuntu 20.04.4 LTS)x86_644.2.0 Patched (2022-06-02 r82447) -- "Vigorous Calisthenics" 4331
palomino4Windows Server 2022 Datacenterx644.2.0 Patched (2022-06-02 r82447 ucrt) -- "Vigorous Calisthenics" 4136
lconwaymacOS 12.2.1 Montereyx86_644.2.0 Patched (2022-05-29 r82424) -- "Vigorous Calisthenics" 4147
Click on any hostname to see more info about the system (e.g. compilers)      (*) as reported by 'uname -p', except on Windows and Mac OS X

CHECK results for gaggle on palomino4


To the developers/maintainers of the gaggle package:
- Please allow up to 24 hours (and sometimes 48 hours) for your latest push to git@git.bioconductor.org:packages/gaggle.git to
reflect on this report. See How and When does the builder pull? When will my changes propagate? for more information.
- Make sure to use the following settings in order to reproduce any error or warning you see on this page.

raw results

Package 709/2118HostnameOS / ArchINSTALLBUILDCHECKBUILD BIN
gaggle 1.65.0  (landing page)
Christopher Bare
Snapshot Date: 2022-06-23 14:00:04 -0400 (Thu, 23 Jun 2022)
git_url: https://git.bioconductor.org/packages/gaggle
git_branch: master
git_last_commit: 1484f92
git_last_commit_date: 2022-04-26 10:58:30 -0400 (Tue, 26 Apr 2022)
nebbiolo2Linux (Ubuntu 20.04.4 LTS) / x86_64  OK    OK    OK  UNNEEDED, same version is already published
palomino4Windows Server 2022 Datacenter / x64  OK    OK    OK    OK  UNNEEDED, same version is already published
lconwaymacOS 12.2.1 Monterey / x86_64  OK    OK    OK    OK  UNNEEDED, same version is already published

Summary

Package: gaggle
Version: 1.65.0
Command: F:\biocbuild\bbs-3.16-bioc\R\bin\R.exe CMD check --force-multiarch --install=check:gaggle.install-out.txt --library=F:\biocbuild\bbs-3.16-bioc\R\library --no-vignettes --timings gaggle_1.65.0.tar.gz
StartedAt: 2022-06-24 01:47:46 -0400 (Fri, 24 Jun 2022)
EndedAt: 2022-06-24 01:48:29 -0400 (Fri, 24 Jun 2022)
EllapsedTime: 43.1 seconds
RetCode: 0
Status:   OK  
CheckDir: gaggle.Rcheck
Warnings: 0

Command output

##############################################################################
##############################################################################
###
### Running command:
###
###   F:\biocbuild\bbs-3.16-bioc\R\bin\R.exe CMD check --force-multiarch --install=check:gaggle.install-out.txt --library=F:\biocbuild\bbs-3.16-bioc\R\library --no-vignettes --timings gaggle_1.65.0.tar.gz
###
##############################################################################
##############################################################################


* using log directory 'F:/biocbuild/bbs-3.16-bioc/meat/gaggle.Rcheck'
* using R version 4.2.0 Patched (2022-06-02 r82447 ucrt)
* using platform: x86_64-w64-mingw32 (64-bit)
* using session charset: UTF-8
* using option '--no-vignettes'
* checking for file 'gaggle/DESCRIPTION' ... OK
* this is package 'gaggle' version '1.65.0'
* checking package namespace information ... OK
* checking package dependencies ... OK
* checking if this is a source package ... OK
* checking if there is a namespace ... OK
* checking for hidden files and directories ... OK
* checking for portable file names ... OK
* checking whether package 'gaggle' can be installed ... OK
* checking installed package size ... OK
* checking package directory ... OK
* checking 'build' directory ... OK
* checking DESCRIPTION meta-information ... NOTE
Non-standard license specification:
  GPL version 2 or newer
Standardizable: TRUE
Standardized license specification:
  GPL (>= 2)
* checking top-level files ... OK
* checking for left-over files ... OK
* checking index information ... OK
* checking package subdirectories ... OK
* checking R files for non-ASCII characters ... OK
* checking R files for syntax errors ... OK
* checking whether the package can be loaded ... OK
* checking whether the package can be loaded with stated dependencies ... OK
* checking whether the package can be unloaded cleanly ... OK
* checking whether the namespace can be loaded with stated dependencies ... OK
* checking whether the namespace can be unloaded cleanly ... OK
* checking dependencies in R code ... NOTE
'library' or 'require' calls to packages already attached by Depends:
  'RUnit' 'rJava'
  Please remove these calls from your code.
Packages in Depends field not imported from:
  'RUnit' 'rJava'
  These packages need to be imported from (in the NAMESPACE file)
  for when this namespace is loaded but not attached.
* checking S3 generic/method consistency ... OK
* checking replacement functions ... OK
* checking foreign function calls ... OK
* checking R code for possible problems ... NOTE
File 'gaggle/R/gaggle.R':
  .onLoad calls:
    require("rJava")
    cat(paste("\nonLoad -- libname:", libname, "pkgname:", pkgname,     "\n"))
    cat("path to jar:", fullPathToGaggleJar, "\n")
    cat("      script: ", .scriptVersion(), "\n")
    cat("  os version: ", .jcall("java/lang/System", "S", "getProperty",     "os.name"), "\n")
    cat(" jvm version: ", jvmVersion, "\n")
    cat("\n   You are using the wrong version of Java.\n", "  Please see http://gaggle.systemsbiology.org/docs/html/java\n\n")

Package startup functions should not change the search path.
Package startup functions should use 'packageStartupMessage' to
  generate messages.
See section 'Good practice' in '?.onAttach'.


onLoad -- libname: F:/biocbuild/bbs-3.16-bioc/R/library pkgname: gaggle 
path to jar: F:/biocbuild/bbs-3.16-bioc/R/library/gaggle/jars/gaggleRShell.jar 
      script:  gaggle.R $Revision: 4499 $   $Date: 2010-08-10 17:15:03 -0700 (Tue, 10 Aug 2010) $ 
  os version:  Windows Server 2019 
 jvm version:  17.0.1 

   You are using the wrong version of Java.
   Please see http://gaggle.systemsbiology.org/docs/html/java

.broadcastAssociativeArray: no visible binding for global variable
  'goose'
.broadcastEnvironment: no visible binding for global variable 'goose'
.broadcastGraph: no visible binding for global variable 'goose'
.pkgVersion: no visible global function definition for 'sessionInfo'
broadcast: no visible binding for global variable 'goose'
connectToGaggle: no visible binding for global variable 'goose'
disconnectFromGaggle: no visible binding for global variable 'goose'
gaggleInit: no visible binding for '<<-' assignment to 'goose'
gaggleInit: no visible binding for '<<-' assignment to 'targetGoose'
gaggleInit: no visible binding for global variable 'goose'
geese: no visible binding for global variable 'goose'
getCluster: no visible binding for global variable 'goose'
getMatrix: no visible binding for global variable 'goose'
getNameList: no visible binding for global variable 'goose'
getNetwork: no visible binding for global variable 'goose'
getSpecies: no visible binding for global variable 'goose'
getTargetGoose: no visible binding for global variable 'goose'
getTuple: no visible binding for global variable 'goose'
getTupleAsList: no visible binding for global variable 'goose'
hideGoose: no visible binding for global variable 'goose'
setSpecies: no visible binding for global variable 'goose'
setTargetGoose: no visible binding for '<<-' assignment to
  'targetGoose'
setTargetGoose: no visible binding for global variable 'goose'
showGoose: no visible binding for global variable 'goose'
testGagglePackage: no visible global function definition for
  'test.gaggle'
Undefined global functions or variables:
  goose sessionInfo test.gaggle
Consider adding
  importFrom("utils", "sessionInfo")
to your NAMESPACE file.
* checking Rd files ... NOTE
prepare_Rd: connectToGaggle.Rd:9-10: Dropping empty section \arguments
prepare_Rd: disconnectFromGaggle.Rd:8-9: Dropping empty section \arguments
prepare_Rd: getCluster.Rd:8-9: Dropping empty section \arguments
prepare_Rd: getNameList.Rd:8-9: Dropping empty section \arguments
prepare_Rd: getTuple.Rd:6-7: Dropping empty section \arguments
* checking Rd metadata ... OK
* checking Rd cross-references ... OK
* checking for missing documentation entries ... OK
* checking for code/documentation mismatches ... OK
* checking Rd \usage sections ... OK
* checking Rd contents ... OK
* checking for unstated dependencies in examples ... OK
* checking sizes of PDF files under 'inst/doc' ... OK
* checking files in 'vignettes' ... OK
* checking examples ... OK
* checking for unstated dependencies in vignettes ... OK
* checking package vignettes in 'inst/doc' ... OK
* checking running R code from vignettes ... SKIPPED
* checking re-building of vignette outputs ... SKIPPED
* checking PDF version of manual ... OK
* DONE

Status: 4 NOTEs
See
  'F:/biocbuild/bbs-3.16-bioc/meat/gaggle.Rcheck/00check.log'
for details.



Installation output

gaggle.Rcheck/00install.out

##############################################################################
##############################################################################
###
### Running command:
###
###   C:\cygwin\bin\curl.exe -O http://155.52.207.166/BBS/3.16/bioc/src/contrib/gaggle_1.65.0.tar.gz && rm -rf gaggle.buildbin-libdir && mkdir gaggle.buildbin-libdir && F:\biocbuild\bbs-3.16-bioc\R\bin\R.exe CMD INSTALL --merge-multiarch --build --library=gaggle.buildbin-libdir gaggle_1.65.0.tar.gz && F:\biocbuild\bbs-3.16-bioc\R\bin\R.exe CMD INSTALL gaggle_1.65.0.zip && rm gaggle_1.65.0.tar.gz gaggle_1.65.0.zip
###
##############################################################################
##############################################################################


  % Total    % Received % Xferd  Average Speed   Time    Time     Time  Current
                                 Dload  Upload   Total   Spent    Left  Speed

  0     0    0     0    0     0      0      0 --:--:-- --:--:-- --:--:--     0
100  184k  100  184k    0     0  2663k      0 --:--:-- --:--:-- --:--:-- 2714k
only one architecture so ignoring '--merge-multiarch'
* installing *source* package 'gaggle' ...
** using staged installation
** R
** inst
** byte-compile and prepare package for lazy loading
** help
*** installing help indices
** building package indices
** installing vignettes
** testing if installed package can be loaded from temporary location

onLoad -- libname: F:/biocbuild/bbs-3.16-bioc/meat/gaggle.buildbin-libdir/00LOCK-gaggle/00new pkgname: gaggle 
path to jar: F:/biocbuild/bbs-3.16-bioc/meat/gaggle.buildbin-libdir/00LOCK-gaggle/00new/gaggle/jars/gaggleRShell.jar 
      script:  gaggle.R $Revision: 4499 $   $Date: 2010-08-10 17:15:03 -0700 (Tue, 10 Aug 2010) $ 
  os version:  Windows Server 2019 
 jvm version:  17.0.1 

   You are using the wrong version of Java.
   Please see http://gaggle.systemsbiology.org/docs/html/java

** testing if installed package can be loaded from final location

onLoad -- libname: F:/biocbuild/bbs-3.16-bioc/meat/gaggle.buildbin-libdir pkgname: gaggle 
path to jar: F:/biocbuild/bbs-3.16-bioc/meat/gaggle.buildbin-libdir/gaggle/jars/gaggleRShell.jar 
      script:  gaggle.R $Revision: 4499 $   $Date: 2010-08-10 17:15:03 -0700 (Tue, 10 Aug 2010) $ 
  os version:  Windows Server 2019 
 jvm version:  17.0.1 

   You are using the wrong version of Java.
   Please see http://gaggle.systemsbiology.org/docs/html/java

** testing if installed package keeps a record of temporary installation path
* MD5 sums
packaged installation of 'gaggle' as gaggle_1.65.0.zip
* DONE (gaggle)
* installing to library 'F:/biocbuild/bbs-3.16-bioc/R/library'
package 'gaggle' successfully unpacked and MD5 sums checked

Tests output


Example timings

gaggle.Rcheck/gaggle-Ex.timings

nameusersystemelapsed
newTuple0.030.000.03