Back to Multiple platform build/check report for BioC 3.16 |
|
This page was generated on 2022-06-24 11:06:28 -0400 (Fri, 24 Jun 2022).
Hostname | OS | Arch (*) | R version | Installed pkgs |
---|---|---|---|---|
nebbiolo2 | Linux (Ubuntu 20.04.4 LTS) | x86_64 | 4.2.0 Patched (2022-06-02 r82447) -- "Vigorous Calisthenics" | 4331 |
palomino4 | Windows Server 2022 Datacenter | x64 | 4.2.0 Patched (2022-06-02 r82447 ucrt) -- "Vigorous Calisthenics" | 4136 |
lconway | macOS 12.2.1 Monterey | x86_64 | 4.2.0 Patched (2022-05-29 r82424) -- "Vigorous Calisthenics" | 4147 |
Click on any hostname to see more info about the system (e.g. compilers) (*) as reported by 'uname -p', except on Windows and Mac OS X |
To the developers/maintainers of the gaggle package: - Please allow up to 24 hours (and sometimes 48 hours) for your latest push to git@git.bioconductor.org:packages/gaggle.git to reflect on this report. See How and When does the builder pull? When will my changes propagate? for more information. - Make sure to use the following settings in order to reproduce any error or warning you see on this page. |
Package 709/2118 | Hostname | OS / Arch | INSTALL | BUILD | CHECK | BUILD BIN | ||||||||
gaggle 1.65.0 (landing page) Christopher Bare
| nebbiolo2 | Linux (Ubuntu 20.04.4 LTS) / x86_64 | OK | OK | OK | ![]() | ||||||||
palomino4 | Windows Server 2022 Datacenter / x64 | OK | OK | OK | OK | ![]() | ||||||||
lconway | macOS 12.2.1 Monterey / x86_64 | OK | OK | OK | OK | ![]() | ||||||||
Package: gaggle |
Version: 1.65.0 |
Command: rm -rf gaggle.buildbin-libdir && mkdir gaggle.buildbin-libdir && F:\biocbuild\bbs-3.16-bioc\R\bin\R.exe CMD INSTALL --merge-multiarch --build --library=gaggle.buildbin-libdir gaggle_1.65.0.tar.gz |
StartedAt: 2022-06-24 07:37:23 -0400 (Fri, 24 Jun 2022) |
EndedAt: 2022-06-24 07:37:30 -0400 (Fri, 24 Jun 2022) |
EllapsedTime: 7.7 seconds |
RetCode: 0 |
Status: OK |
PackageFile: gaggle_1.65.0.zip |
PackageFileSize: 305.7 KiB |
############################################################################## ############################################################################## ### ### Running command: ### ### rm -rf gaggle.buildbin-libdir && mkdir gaggle.buildbin-libdir && F:\biocbuild\bbs-3.16-bioc\R\bin\R.exe CMD INSTALL --merge-multiarch --build --library=gaggle.buildbin-libdir gaggle_1.65.0.tar.gz ### ############################################################################## ############################################################################## only one architecture so ignoring '--merge-multiarch' * installing *source* package 'gaggle' ... ** using staged installation ** R ** inst ** byte-compile and prepare package for lazy loading ** help *** installing help indices ** building package indices ** installing vignettes ** testing if installed package can be loaded from temporary location onLoad -- libname: F:/biocbuild/bbs-3.16-bioc/meat/gaggle.buildbin-libdir/00LOCK-gaggle/00new pkgname: gaggle path to jar: F:/biocbuild/bbs-3.16-bioc/meat/gaggle.buildbin-libdir/00LOCK-gaggle/00new/gaggle/jars/gaggleRShell.jar script: gaggle.R $Revision: 4499 $ $Date: 2010-08-10 17:15:03 -0700 (Tue, 10 Aug 2010) $ os version: Windows Server 2019 jvm version: 17.0.1 You are using the wrong version of Java. Please see http://gaggle.systemsbiology.org/docs/html/java ** testing if installed package can be loaded from final location onLoad -- libname: F:/biocbuild/bbs-3.16-bioc/meat/gaggle.buildbin-libdir pkgname: gaggle path to jar: F:/biocbuild/bbs-3.16-bioc/meat/gaggle.buildbin-libdir/gaggle/jars/gaggleRShell.jar script: gaggle.R $Revision: 4499 $ $Date: 2010-08-10 17:15:03 -0700 (Tue, 10 Aug 2010) $ os version: Windows Server 2019 jvm version: 17.0.1 You are using the wrong version of Java. Please see http://gaggle.systemsbiology.org/docs/html/java ** testing if installed package keeps a record of temporary installation path * MD5 sums packaged installation of 'gaggle' as gaggle_1.65.0.zip * DONE (gaggle)