Back to Multiple platform build/check report for BioC 3.16
ABCDEF[G]HIJKLMNOPQRSTUVWXYZ

This page was generated on 2022-06-24 11:07:53 -0400 (Fri, 24 Jun 2022).

HostnameOSArch (*)R versionInstalled pkgs
nebbiolo2Linux (Ubuntu 20.04.4 LTS)x86_644.2.0 Patched (2022-06-02 r82447) -- "Vigorous Calisthenics" 4331
palomino4Windows Server 2022 Datacenterx644.2.0 Patched (2022-06-02 r82447 ucrt) -- "Vigorous Calisthenics" 4136
lconwaymacOS 12.2.1 Montereyx86_644.2.0 Patched (2022-05-29 r82424) -- "Vigorous Calisthenics" 4147
Click on any hostname to see more info about the system (e.g. compilers)      (*) as reported by 'uname -p', except on Windows and Mac OS X

BUILD BIN results for gaggle on lconway


To the developers/maintainers of the gaggle package:
- Please allow up to 24 hours (and sometimes 48 hours) for your latest push to git@git.bioconductor.org:packages/gaggle.git to
reflect on this report. See How and When does the builder pull? When will my changes propagate? for more information.
- Make sure to use the following settings in order to reproduce any error or warning you see on this page.

raw results

Package 709/2118HostnameOS / ArchINSTALLBUILDCHECKBUILD BIN
gaggle 1.65.0  (landing page)
Christopher Bare
Snapshot Date: 2022-06-23 14:00:04 -0400 (Thu, 23 Jun 2022)
git_url: https://git.bioconductor.org/packages/gaggle
git_branch: master
git_last_commit: 1484f92
git_last_commit_date: 2022-04-26 10:58:30 -0400 (Tue, 26 Apr 2022)
nebbiolo2Linux (Ubuntu 20.04.4 LTS) / x86_64  OK    OK    OK  UNNEEDED, same version is already published
palomino4Windows Server 2022 Datacenter / x64  OK    OK    OK    OK  UNNEEDED, same version is already published
lconwaymacOS 12.2.1 Monterey / x86_64  OK    OK    OK    OK  UNNEEDED, same version is already published

Summary

Package: gaggle
Version: 1.65.0
Command: rm -rf gaggle.buildbin-libdir && mkdir gaggle.buildbin-libdir && /Users/biocbuild/BBS/utils/build-universal.sh gaggle_1.65.0.tar.gz /Library/Frameworks/R.framework/Resources/bin/R gaggle.buildbin-libdir
StartedAt: 2022-06-23 23:38:18 -0400 (Thu, 23 Jun 2022)
EndedAt: 2022-06-23 23:38:25 -0400 (Thu, 23 Jun 2022)
EllapsedTime: 6.8 seconds
RetCode: 0
Status:   OK  
PackageFile: gaggle_1.65.0.tgz
PackageFileSize: 302.4 KiB

Command output

##############################################################################
##############################################################################
###
### Running command:
###
###   rm -rf gaggle.buildbin-libdir && mkdir gaggle.buildbin-libdir && /Users/biocbuild/BBS/utils/build-universal.sh gaggle_1.65.0.tar.gz /Library/Frameworks/R.framework/Resources/bin/R gaggle.buildbin-libdir
###
##############################################################################
##############################################################################


>>>>>>> 
>>>>>>> INSTALLATION WITH 'R CMD INSTALL --preclean --no-multiarch --library=gaggle.buildbin-libdir gaggle_1.65.0.tar.gz'
>>>>>>> 

* installing *source* package ‘gaggle’ ...
** using staged installation
** R
** inst
** byte-compile and prepare package for lazy loading
** help
*** installing help indices
** building package indices
** installing vignettes
** testing if installed package can be loaded from temporary location

onLoad -- libname: /Users/biocbuild/bbs-3.16-bioc/meat/gaggle.buildbin-libdir/00LOCK-gaggle/00new pkgname: gaggle 
path to jar: /Users/biocbuild/bbs-3.16-bioc/meat/gaggle.buildbin-libdir/00LOCK-gaggle/00new/gaggle/jars/gaggleRShell.jar 
      script:  gaggle.R $Revision: 4499 $   $Date: 2010-08-10 17:15:03 -0700 (Tue, 10 Aug 2010) $ 
  os version:  Mac OS X 
 jvm version:  18 

   You are using the wrong version of Java.
   Please see http://gaggle.systemsbiology.org/docs/html/java

** testing if installed package can be loaded from final location

onLoad -- libname: /Users/biocbuild/bbs-3.16-bioc/meat/gaggle.buildbin-libdir pkgname: gaggle 
path to jar: /Users/biocbuild/bbs-3.16-bioc/meat/gaggle.buildbin-libdir/gaggle/jars/gaggleRShell.jar 
      script:  gaggle.R $Revision: 4499 $   $Date: 2010-08-10 17:15:03 -0700 (Tue, 10 Aug 2010) $ 
  os version:  Mac OS X 
 jvm version:  18 

   You are using the wrong version of Java.
   Please see http://gaggle.systemsbiology.org/docs/html/java

** testing if installed package keeps a record of temporary installation path
* DONE (gaggle)