Index of /checkResults/devel/bioc-LATEST/gage/raw-results/lconway

[ICO]NameLast modifiedSizeDescription

[DIR]Parent Directory  -  
[TXT]buildbin-out.txt25-Jun-2022 00:07 1.1K 
[   ]buildbin-summary.dcf25-Jun-2022 00:07 512  
[TXT]buildsrc-out.txt25-Jun-2022 00:07 1.1K 
[   ]buildsrc-summary.dcf25-Jun-2022 00:07 419  
[TXT]checksrc-out.txt25-Jun-2022 00:07 9.7K 
[   ]checksrc-summary.dcf25-Jun-2022 00:07 438  
[TXT]install-out.txt25-Jun-2022 00:07 1.0K 
[   ]install-summary.dcf25-Jun-2022 00:07 263