Name | Last modified | Size | Description | |
---|---|---|---|---|
Parent Directory | - | |||
install-summary.dcf | 27-Jun-2024 00:39 | 262 | ||
install-out.txt | 27-Jun-2024 00:39 | 1.0K | ||
checksrc-summary.dcf | 27-Jun-2024 00:39 | 437 | ||
checksrc-out.txt | 27-Jun-2024 00:39 | 10K | ||
buildsrc-summary.dcf | 27-Jun-2024 00:39 | 418 | ||
buildsrc-out.txt | 27-Jun-2024 00:39 | 1.1K | ||
buildbin-summary.dcf | 27-Jun-2024 00:39 | 511 | ||
buildbin-out.txt | 27-Jun-2024 00:39 | 1.1K | ||