Back to Multiple platform build/check report for BioC 3.15
ABCDEF[G]HIJKLMNOPQRSTUVWXYZ

This page was generated on 2022-01-19 11:07:44 -0500 (Wed, 19 Jan 2022).

HostnameOSArch (*)R versionInstalled pkgs
nebbiolo1Linux (Ubuntu 20.04.4 LTS)x86_64R Under development (unstable) (2022-01-05 r81451) -- "Unsuffered Consequences" 4161
riesling1Windows Server 2019 Standardx64R Under development (unstable) (2021-11-21 r81221) -- "Unsuffered Consequences" 4056
palomino3Windows Server 2022 Datacenterx64R Under development (unstable) (2021-12-21 r81400 ucrt) -- "Unsuffered Consequences" 3998
merida1macOS 10.14.6 Mojavex86_64R Under development (unstable) (2022-01-05 r81451) -- "Unsuffered Consequences" 4115
Click on any hostname to see more info about the system (e.g. compilers)      (*) as reported by 'uname -p', except on Windows and Mac OS X

CHECK results for gaga on riesling1


To the developers/maintainers of the gaga package:
- Please allow up to 24 hours (and sometimes 48 hours) for your latest push to git@git.bioconductor.org:packages/gaga.git to
reflect on this report. See How and When does the builder pull? When will my changes propagate? here for more information.
- Make sure to use the following settings in order to reproduce any error or warning you see on this page.

raw results

Package 690/2074HostnameOS / ArchINSTALLBUILDCHECKBUILD BIN
gaga 2.41.0  (landing page)
David Rossell
Snapshot Date: 2022-01-18 13:55:18 -0500 (Tue, 18 Jan 2022)
git_url: https://git.bioconductor.org/packages/gaga
git_branch: master
git_last_commit: 0794c21
git_last_commit_date: 2021-10-26 11:51:47 -0500 (Tue, 26 Oct 2021)
nebbiolo1Linux (Ubuntu 20.04.4 LTS) / x86_64  OK    OK    OK  UNNEEDED, same version is already published
riesling1Windows Server 2019 Standard / x64  OK    OK    OK    OK  
palomino3Windows Server 2022 Datacenter / x64  OK    OK    OK    OK  NO, package depends on 'Biobase' which is not available
merida1macOS 10.14.6 Mojave / x86_64  OK    OK    WARNINGS    OK  UNNEEDED, same version is already published

Summary

Package: gaga
Version: 2.41.0
Command: D:\biocbuild\bbs-3.15-bioc\R\bin\R.exe CMD check --no-multiarch --install=check:gaga.install-out.txt --library=D:\biocbuild\bbs-3.15-bioc\R\library --no-vignettes --timings gaga_2.41.0.tar.gz
StartedAt: 2022-01-18 18:54:32 -0500 (Tue, 18 Jan 2022)
EndedAt: 2022-01-18 18:55:29 -0500 (Tue, 18 Jan 2022)
EllapsedTime: 56.7 seconds
RetCode: 0
Status:   OK  
CheckDir: gaga.Rcheck
Warnings: 0

Command output

##############################################################################
##############################################################################
###
### Running command:
###
###   D:\biocbuild\bbs-3.15-bioc\R\bin\R.exe CMD check --no-multiarch --install=check:gaga.install-out.txt --library=D:\biocbuild\bbs-3.15-bioc\R\library --no-vignettes --timings gaga_2.41.0.tar.gz
###
##############################################################################
##############################################################################


* using log directory 'D:/biocbuild/bbs-3.15-bioc/meat/gaga.Rcheck'
* using R Under development (unstable) (2021-11-21 r81221)
* using platform: x86_64-w64-mingw32 (64-bit)
* using session charset: ISO8859-1
* using option '--no-vignettes'
* checking for file 'gaga/DESCRIPTION' ... OK
* this is package 'gaga' version '2.41.0'
* checking package namespace information ... OK
* checking package dependencies ... OK
* checking if this is a source package ... OK
* checking if there is a namespace ... OK
* checking for hidden files and directories ... OK
* checking for portable file names ... OK
* checking whether package 'gaga' can be installed ... OK
* checking installed package size ... OK
* checking package directory ... OK
* checking 'build' directory ... OK
* checking DESCRIPTION meta-information ... OK
* checking top-level files ... OK
* checking for left-over files ... OK
* checking index information ... OK
* checking package subdirectories ... OK
* checking R files for non-ASCII characters ... OK
* checking R files for syntax errors ... OK
* checking whether the package can be loaded ... OK
* checking whether the package can be loaded with stated dependencies ... OK
* checking whether the package can be unloaded cleanly ... OK
* checking whether the namespace can be loaded with stated dependencies ... OK
* checking whether the namespace can be unloaded cleanly ... OK
* checking dependencies in R code ... OK
* checking S3 generic/method consistency ... OK
* checking replacement functions ... OK
* checking foreign function calls ... OK
* checking R code for possible problems ... NOTE
adjustfitNN: no visible global function definition for 'predict'
checkfit.gagafit: no visible global function definition for 'is'
checkfit.gagafit: no visible global function definition for 'density'
checkfit.gagafit: no visible global function definition for 'lines'
checkfit.gagafit: no visible global function definition for 'legend'
checkfit.gagafit: no visible global function definition for 'quantile'
checkfit.gagafit: no visible global function definition for 'points'
classpred.gagafit: no visible global function definition for 'is'
findgenes.gagafit: no visible global function definition for 'is'
findgenes.gagafit: no visible global function definition for 'kmeans'
fitGG: no visible global function definition for 'is'
fitGG: no visible global function definition for 'quantile'
fitGG: no visible global function definition for 'var'
fitGG: no visible global function definition for 'kmeans'
fitNN: no visible global function definition for 'is'
fitNNSingleHyp: no visible global function definition for 'is'
forwsimDiffExpr.gagafit: no visible global function definition for 'is'
forwsimDiffExpr.nnfit: no visible global function definition for 'is'
forwsimDiffExpr.nnfit: no visible global function definition for
  'quantile'
makeEBarraysSingleHyp: no visible global function definition for 'new'
parest.gagafit: no visible global function definition for 'is'
parest.gagafit: no visible binding for global variable 'quantile'
parest.gagafit: no visible global function definition for 'quantile'
plotForwSim: no visible global function definition for 'lines'
posmeansGG.gagafit: no visible global function definition for 'is'
powclasspred.gagafit: no visible global function definition for 'is'
powfindgenes.gagafit: no visible global function definition for 'is'
powfindgenes.nnfit: no visible global function definition for 'is'
powfindgenes.nnfit: no visible global function definition for 'sd'
powsimprior.nnfit: no visible global function definition for 'sd'
ppGG: no visible global function definition for 'is'
sigmaPriorEst: no visible global function definition for 'is'
sigmaPriorEst: no visible binding for global variable 'var'
sigmaPriorEst: no visible global function definition for 'var'
simGG: no visible global function definition for 'rgamma'
simGG: no visible global function definition for 'new'
simNN: no visible global function definition for 'runif'
simNN: no visible global function definition for 'rnorm'
simNN: no visible global function definition for 'rgamma'
simNN: no visible global function definition for 'new'
simnewsamples.gagafit: no visible global function definition for 'is'
simnewsamples.gagafit: no visible global function definition for 'new'
simnewsamples.nnfit: no visible global function definition for 'is'
simnewsamples.nnfit: no visible global function definition for 'runif'
simnewsamples.nnfit: no visible global function definition for 'rgamma'
simnewsamples.nnfit: no visible global function definition for 'rnorm'
simnewsamples.nnfit: no visible global function definition for
  'model.matrix'
simnewsamples.nnfit: no visible global function definition for 'new'
Undefined global functions or variables:
  density is kmeans legend lines model.matrix new points predict
  quantile rgamma rnorm runif sd var
Consider adding
  importFrom("graphics", "legend", "lines", "points")
  importFrom("methods", "is", "new")
  importFrom("stats", "density", "kmeans", "model.matrix", "predict",
             "quantile", "rgamma", "rnorm", "runif", "sd", "var")
to your NAMESPACE file (and ensure that your DESCRIPTION Imports field
contains 'methods').
* checking Rd files ... OK
* checking Rd metadata ... OK
* checking Rd cross-references ... OK
* checking for missing documentation entries ... OK
* checking for code/documentation mismatches ... OK
* checking Rd \usage sections ... OK
* checking Rd contents ... OK
* checking for unstated dependencies in examples ... OK
* checking line endings in C/C++/Fortran sources/headers ... OK
* checking compiled code ... NOTE
Note: information on .o files for x64 is not available
File 'D:/biocbuild/bbs-3.15-bioc/R/library/gaga/libs/x64/gaga.dll':
  Found 'abort', possibly from 'abort' (C), 'runtime' (Fortran)

Compiled code should not call entry points which might terminate R nor
write to stdout/stderr instead of to the console, nor use Fortran I/O
nor system RNGs. The detected symbols are linked into the code but
might come from libraries and not actually be called.

See 'Writing portable packages' in the 'Writing R Extensions' manual.
* checking files in 'vignettes' ... OK
* checking examples ... OK
* checking for unstated dependencies in vignettes ... OK
* checking package vignettes in 'inst/doc' ... OK
* checking running R code from vignettes ... SKIPPED
* checking re-building of vignette outputs ... SKIPPED
* checking PDF version of manual ... OK
* DONE

Status: 2 NOTEs
See
  'D:/biocbuild/bbs-3.15-bioc/meat/gaga.Rcheck/00check.log'
for details.



Installation output

gaga.Rcheck/00install.out

##############################################################################
##############################################################################
###
### Running command:
###
###   D:\biocbuild\bbs-3.15-bioc\R\bin\R.exe CMD INSTALL gaga
###
##############################################################################
##############################################################################


* installing to library 'D:/biocbuild/bbs-3.15-bioc/R/library'
* installing *source* package 'gaga' ...
** using staged installation
** libs
"C:/rtools40/mingw64/bin/"gcc  -I"D:/biocbuild/bbs-3.15-bioc/R/include" -DNDEBUG     -I"C:/extsoft/include"     -O2 -Wall  -std=gnu99 -mfpmath=sse -msse2 -mstackrealign -fno-reorder-blocks-and-partition  -c cseqdesma.c -o cseqdesma.o
"C:/rtools40/mingw64/bin/"gcc  -I"D:/biocbuild/bbs-3.15-bioc/R/include" -DNDEBUG     -I"C:/extsoft/include"     -O2 -Wall  -std=gnu99 -mfpmath=sse -msse2 -mstackrealign -fno-reorder-blocks-and-partition  -c cstat.c -o cstat.o
cstat.c:22:19: warning: 'css_c_sccs_id' defined but not used [-Wunused-const-variable=]
 static const char css_c_sccs_id[] = "@(#)$Workfile: rand.c$ $Revision: 5$";
                   ^~~~~~~~~~~~~
cstat.c:21:19: warning: 'vector_c_sccs_id' defined but not used [-Wunused-const-variable=]
 static const char vector_c_sccs_id[] = "%W%";
                   ^~~~~~~~~~~~~~~~
cstat.c:20:19: warning: 'nrutil_c_sccs_id' defined but not used [-Wunused-const-variable=]
 static const char nrutil_c_sccs_id[] = "%W%";
                   ^~~~~~~~~~~~~~~~
cstat.c:19:19: warning: 'mess_c_sccs_id' defined but not used [-Wunused-const-variable=]
 static const char mess_c_sccs_id[] = "%W%";
                   ^~~~~~~~~~~~~~
cstat.c:18:19: warning: 'interface_c_sccs_id' defined but not used [-Wunused-const-variable=]
 static const char interface_c_sccs_id[] = "%W%";
                   ^~~~~~~~~~~~~~~~~~~
C:/rtools40/mingw64/bin/gcc -shared -s -static-libgcc -o gaga.dll tmp.def cseqdesma.o cstat.o -LC:/extsoft/lib/x64 -LC:/extsoft/lib -LD:/biocbuild/bbs-3.15-bioc/R/bin/x64 -lR
installing to D:/biocbuild/bbs-3.15-bioc/R/library/00LOCK-gaga/00new/gaga/libs/x64
** R
** inst
** byte-compile and prepare package for lazy loading
** help
*** installing help indices
  converting help for package 'gaga'
    finding HTML links ... done
    buildPatterns                           html  
    checkfit                                html  
    classpred                               html  
    dcgamma                                 html  
    findgenes                               html  
    fitGG                                   html  
    forwsimDiffExpr                         html  
    geneclus                                html  
    getpar                                  html  
    parest                                  html  
    plotForwSim                             html  
    posmeansGG                              html  
    powclasspred                            html  
    powfindgenes                            html  
    print.gagaclus                          html  
    print.gagafit                           html  
    print.gagahyp                           html  
    seqBoundariesGrid                       html  
    simGG                                   html  
    simnewsamples                           html  
** building package indices
** installing vignettes
** testing if installed package can be loaded from temporary location
** testing if installed package can be loaded from final location
** testing if installed package keeps a record of temporary installation path
* DONE (gaga)
Making 'packages.html' ... done

Tests output


Example timings

gaga.Rcheck/gaga-Ex.timings

nameusersystemelapsed
buildPatterns000
classpred000
findgenes000
fitGG0.090.000.10
forwsimDiffExpr1.360.001.36
geneclus000
parest000
powfindgenes0.280.000.28
simGG000