Name | Last modified | Size | Description | |
---|---|---|---|---|
Parent Directory | - | |||
buildbin-out.txt | 02-May-2024 00:36 | 6.8K | ||
buildbin-summary.dcf | 02-May-2024 00:36 | 512 | ||
buildsrc-out.txt | 02-May-2024 00:36 | 834 | ||
buildsrc-summary.dcf | 02-May-2024 00:36 | 418 | ||
checksrc-out.txt | 02-May-2024 00:36 | 7.3K | ||
checksrc-summary.dcf | 02-May-2024 00:36 | 437 | ||
install-out.txt | 02-May-2024 00:36 | 5.0K | ||
install-summary.dcf | 02-May-2024 00:36 | 263 | ||