Name | Last modified | Size | Description | |
---|---|---|---|---|
Parent Directory | - | |||
buildsrc-out.txt | 30-Apr-2024 00:40 | 835 | ||
buildsrc-summary.dcf | 30-Apr-2024 00:40 | 419 | ||
checksrc-out.txt | 30-Apr-2024 00:40 | 7.0K | ||
checksrc-summary.dcf | 30-Apr-2024 00:40 | 438 | ||
install-out.txt | 30-Apr-2024 00:40 | 2.5K | ||
install-summary.dcf | 30-Apr-2024 00:40 | 264 | ||