Index of /checkResults/devel/bioc-LATEST/frenchFISH/raw-results/nebbiolo1

[ICO]NameLast modifiedSizeDescription

[DIR]Parent Directory  -  
[TXT]buildsrc-out.txt29-Feb-2024 01:36 818  
[   ]buildsrc-summary.dcf29-Feb-2024 01:36 425  
[TXT]checksrc-out.txt29-Feb-2024 01:36 3.1K 
[   ]checksrc-summary.dcf29-Feb-2024 01:36 425  
[TXT]install-out.txt29-Feb-2024 01:36 961  
[   ]install-summary.dcf29-Feb-2024 01:36 264