Back to Multiple platform build/check report for BioC 3.15
ABCDE[F]GHIJKLMNOPQRSTUVWXYZ

This page was generated on 2022-01-15 11:07:35 -0500 (Sat, 15 Jan 2022).

HostnameOSArch (*)R versionInstalled pkgs
nebbiolo1Linux (Ubuntu 20.04.4 LTS)x86_64R Under development (unstable) (2022-01-05 r81451) -- "Unsuffered Consequences" 4160
riesling1Windows Server 2019 Standardx64R Under development (unstable) (2021-11-21 r81221) -- "Unsuffered Consequences" 4055
palomino3Windows Server 2022 Datacenterx64R Under development (unstable) (2021-12-21 r81400 ucrt) -- "Unsuffered Consequences" 3997
merida1macOS 10.14.6 Mojavex86_64R Under development (unstable) (2022-01-05 r81451) -- "Unsuffered Consequences" 4114
Click on any hostname to see more info about the system (e.g. compilers)      (*) as reported by 'uname -p', except on Windows and Mac OS X

BUILD results for fmrs on riesling1


To the developers/maintainers of the fmrs package:
- Please allow up to 24 hours (and sometimes 48 hours) for your latest push to git@git.bioconductor.org:packages/fmrs.git to
reflect on this report. See How and When does the builder pull? When will my changes propagate? here for more information.
- Make sure to use the following settings in order to reproduce any error or warning you see on this page.

raw results

Package 677/2074HostnameOS / ArchINSTALLBUILDCHECKBUILD BIN
fmrs 1.5.0  (landing page)
Farhad Shokoohi
Snapshot Date: 2022-01-14 13:55:18 -0500 (Fri, 14 Jan 2022)
git_url: https://git.bioconductor.org/packages/fmrs
git_branch: master
git_last_commit: 3054486
git_last_commit_date: 2021-10-26 13:00:45 -0500 (Tue, 26 Oct 2021)
nebbiolo1Linux (Ubuntu 20.04.4 LTS) / x86_64  OK    OK    OK  UNNEEDED, same version is already published
riesling1Windows Server 2019 Standard / x64  OK    OK    OK    OK  
palomino3Windows Server 2022 Datacenter / x64  OK    OK    OK    OK  UNNEEDED, same version is already published
merida1macOS 10.14.6 Mojave / x86_64  OK    OK    OK    OK  UNNEEDED, same version is already published

Summary

Package: fmrs
Version: 1.5.0
Command: chmod a+r fmrs -R && D:\biocbuild\bbs-3.15-bioc\R\bin\R.exe CMD build --keep-empty-dirs --no-resave-data fmrs
StartedAt: 2022-01-14 16:51:03 -0500 (Fri, 14 Jan 2022)
EndedAt: 2022-01-14 16:51:18 -0500 (Fri, 14 Jan 2022)
EllapsedTime: 15.1 seconds
RetCode: 0
Status:   OK  
PackageFile: fmrs_1.5.0.tar.gz
PackageFileSize: 41.33 KiB

Command output

##############################################################################
##############################################################################
###
### Running command:
###
###   chmod a+r fmrs -R && D:\biocbuild\bbs-3.15-bioc\R\bin\R.exe CMD build --keep-empty-dirs --no-resave-data fmrs
###
##############################################################################
##############################################################################


* checking for file 'fmrs/DESCRIPTION' ... OK
* preparing 'fmrs':
* checking DESCRIPTION meta-information ... OK
* cleaning src
* installing the package to build vignettes
* creating vignettes ... OK
* cleaning src
* checking for LF line-endings in source and make files and shell scripts
* checking for empty or unneeded directories
Omitted 'LazyData' from DESCRIPTION
* building 'fmrs_1.5.0.tar.gz'