Index of /checkResults/devel/bioc-LATEST/fmrs/raw-results/palomino4

[ICO]NameLast modifiedSizeDescription

[DIR]Parent Directory  -  
[TXT]buildbin-out.txt12-Jun-2024 04:40 3.2K 
[   ]buildbin-summary.dcf12-Jun-2024 04:40 497  
[TXT]buildsrc-out.txt12-Jun-2024 04:40 1.0K 
[   ]buildsrc-summary.dcf12-Jun-2024 04:40 440  
[TXT]checksrc-out.txt12-Jun-2024 04:40 4.0K 
[   ]checksrc-summary.dcf12-Jun-2024 04:40 435  
[TXT]install-out.txt12-Jun-2024 04:40 3.0K 
[   ]install-summary.dcf12-Jun-2024 04:40 262