Index of /checkResults/devel/bioc-LATEST/fmrs/raw-results/lconway

[ICO]NameLast modifiedSizeDescription

[DIR]Parent Directory  -  
[TXT]buildbin-out.txt24-Jul-2024 00:41 3.5K 
[   ]buildbin-summary.dcf24-Jul-2024 00:41 510  
[TXT]buildsrc-out.txt24-Jul-2024 00:41 1.0K 
[   ]buildsrc-summary.dcf24-Jul-2024 00:41 418  
[TXT]checksrc-out.txt24-Jul-2024 00:41 3.6K 
[   ]checksrc-summary.dcf24-Jul-2024 00:41 431  
[TXT]install-out.txt24-Jul-2024 00:41 1.7K 
[   ]install-summary.dcf24-Jul-2024 00:41 263