Name | Last modified | Size | Description | |
---|---|---|---|---|
Parent Directory | - | |||
install-summary.dcf | 12-Jun-2024 04:43 | 263 | ||
buildsrc-summary.dcf | 12-Jun-2024 04:43 | 415 | ||
checksrc-summary.dcf | 12-Jun-2024 04:43 | 431 | ||
buildbin-summary.dcf | 12-Jun-2024 04:43 | 510 | ||
buildsrc-out.txt | 12-Jun-2024 04:43 | 1.0K | ||
install-out.txt | 12-Jun-2024 04:43 | 1.7K | ||
buildbin-out.txt | 12-Jun-2024 04:43 | 3.5K | ||
checksrc-out.txt | 12-Jun-2024 04:43 | 3.6K | ||