Index of /checkResults/devel/bioc-LATEST/fmrs/raw-results

[ICO]NameLast modifiedSizeDescription

[DIR]Parent Directory  -  
[   ]info.dcf13-Jul-2024 01:28 260  
[DIR]kjohnson1/12-Jun-2024 04:43 -  
[DIR]kjohnson3/13-Jul-2024 01:34 -  
[DIR]kunpeng2/09-Jul-2024 00:44 -  
[DIR]lconway/13-Jul-2024 01:32 -  
[DIR]merida1/12-Jun-2024 04:41 -  
[DIR]nebbiolo2/13-Jul-2024 01:29 -  
[DIR]palomino4/12-Jun-2024 04:40 -  
[DIR]palomino6/13-Jul-2024 01:31 -  
[DIR]palomino8/13-Jul-2024 01:35 -