![]() | Name | Last modified | Size | Description |
---|---|---|---|---|
![]() | Parent Directory | - | ||
![]() | install-summary.dcf | 20-Aug-2022 01:11 | 265 | |
![]() | buildsrc-summary.dcf | 20-Aug-2022 01:11 | 426 | |
![]() | checksrc-summary.dcf | 20-Aug-2022 01:11 | 435 | |
![]() | buildsrc-out.txt | 20-Aug-2022 01:11 | 818 | |
![]() | install-out.txt | 20-Aug-2022 01:11 | 1.0K | |
![]() | checksrc-out.txt | 20-Aug-2022 01:11 | 3.3K | |