Index of /checkResults/devel/bioc-LATEST/flowcatchR/raw-results

[ICO]NameLast modifiedSizeDescription

[DIR]Parent Directory  -  
[   ]info.dcf19-May-2022 00:07 274  
[DIR]lconway/19-May-2022 00:07 -  
[DIR]nebbiolo2/19-May-2022 00:05 -  
[DIR]palomino4/19-May-2022 00:06 -