Name | Last modified | Size | Description | |
---|---|---|---|---|
Parent Directory | - | |||
install-summary.dcf | 17-Jul-2024 00:40 | 287 | ||
install-out.txt | 17-Jul-2024 00:40 | 1.6M | ||
buildsrc-out.txt | 17-Jul-2024 00:40 | 1.3K | ||
buildsrc-summary.dcf | 17-Jul-2024 00:40 | 483 | ||
checksrc-out.txt | 17-Jul-2024 00:40 | 18K | ||
checksrc-summary.dcf | 17-Jul-2024 00:40 | 489 | ||
buildbin-summary.dcf | 17-Jul-2024 00:40 | 558 | ||
buildbin-out.txt | 17-Jul-2024 00:40 | 1.6M | ||