![]() | Name | Last modified | Size | Description |
---|---|---|---|---|
![]() | Parent Directory | - | ||
![]() | buildbin-out.txt | 24-Sep-2023 00:37 | 1.6M | |
![]() | buildbin-summary.dcf | 24-Sep-2023 00:37 | 552 | |
![]() | buildsrc-out.txt | 24-Sep-2023 00:37 | 1.3K | |
![]() | buildsrc-summary.dcf | 24-Sep-2023 00:37 | 477 | |
![]() | checksrc-out.txt | 24-Sep-2023 00:37 | 17K | |
![]() | checksrc-summary.dcf | 24-Sep-2023 00:37 | 477 | |
![]() | install-out.txt | 24-Sep-2023 00:37 | 1.6M | |
![]() | install-summary.dcf | 24-Sep-2023 00:37 | 281 | |