![]() | Name | Last modified | Size | Description |
---|---|---|---|---|
![]() | Parent Directory | - | ||
![]() | buildsrc-out.txt | 24-Sep-2023 00:36 | 1.2K | |
![]() | buildsrc-summary.dcf | 24-Sep-2023 00:36 | 436 | |
![]() | checksrc-out.txt | 24-Sep-2023 00:36 | 17K | |
![]() | checksrc-summary.dcf | 24-Sep-2023 00:36 | 444 | |
![]() | install-out.txt | 24-Sep-2023 00:36 | 2.3M | |
![]() | install-summary.dcf | 24-Sep-2023 00:36 | 272 | |