Name | Last modified | Size | Description | |
---|---|---|---|---|
Parent Directory | - | |||
buildbin-out.txt | 18-Feb-2024 16:28 | 13K | ||
buildbin-summary.dcf | 18-Feb-2024 16:28 | 567 | ||
buildsrc-out.txt | 05-Mar-2024 01:39 | 1.4K | ||
buildsrc-summary.dcf | 05-Mar-2024 01:39 | 356 | ||
checksrc-out.txt | 18-Feb-2024 16:28 | 17K | ||
checksrc-summary.dcf | 18-Feb-2024 16:28 | 474 | ||
install-out.txt | 05-Mar-2024 01:39 | 10K | ||
install-summary.dcf | 05-Mar-2024 01:39 | 282 | ||