Name | Last modified | Size | Description | |
---|---|---|---|---|
Parent Directory | - | |||
buildbin-summary.dcf | 28-Jul-2024 00:41 | 567 | ||
buildbin-out.txt | 28-Jul-2024 00:41 | 13K | ||
checksrc-out.txt | 28-Jul-2024 00:41 | 17K | ||
checksrc-summary.dcf | 28-Jul-2024 00:41 | 474 | ||
buildsrc-summary.dcf | 28-Jul-2024 00:41 | 446 | ||
buildsrc-out.txt | 28-Jul-2024 00:41 | 1.2K | ||
install-summary.dcf | 28-Jul-2024 00:41 | 282 | ||
install-out.txt | 28-Jul-2024 00:41 | 10K | ||