![]() | Name | Last modified | Size | Description |
---|---|---|---|---|
![]() | Parent Directory | - | ||
![]() | buildbin-out.txt | 24-Sep-2023 00:38 | 30K | |
![]() | buildbin-summary.dcf | 24-Sep-2023 00:38 | 567 | |
![]() | buildsrc-out.txt | 24-Sep-2023 00:38 | 1.2K | |
![]() | buildsrc-summary.dcf | 24-Sep-2023 00:38 | 446 | |
![]() | checksrc-out.txt | 24-Sep-2023 00:38 | 17K | |
![]() | checksrc-summary.dcf | 24-Sep-2023 00:38 | 474 | |
![]() | install-out.txt | 24-Sep-2023 00:38 | 27K | |
![]() | install-summary.dcf | 24-Sep-2023 00:38 | 282 | |