Name | Last modified | Size | Description | |
---|---|---|---|---|
Parent Directory | - | |||
checksrc-summary.dcf | 09-Jul-2024 00:44 | 435 | ||
checksrc-out.txt | 09-Jul-2024 00:44 | 17K | ||
buildsrc-summary.dcf | 09-Jul-2024 00:44 | 424 | ||
buildsrc-out.txt | 09-Jul-2024 00:44 | 1.2K | ||
install-summary.dcf | 07-Jul-2024 00:44 | 260 | ||
install-out.txt | 07-Jul-2024 00:44 | 17K | ||