Name | Last modified | Size | Description | |
---|---|---|---|---|
Parent Directory | - | |||
install-summary.dcf | 18-Jun-2024 01:22 | 259 | ||
checksrc-summary.dcf | 18-Jun-2024 01:22 | 414 | ||
buildsrc-summary.dcf | 18-Jun-2024 01:22 | 423 | ||
buildsrc-out.txt | 18-Jun-2024 01:22 | 1.0K | ||
install-out.txt | 18-Jun-2024 01:22 | 3.5K | ||
checksrc-out.txt | 18-Jun-2024 01:22 | 6.4K | ||