Name | Last modified | Size | Description | |
---|---|---|---|---|
Parent Directory | - | |||
install-out.txt | 27-Jun-2024 00:39 | 1.0K | ||
install-summary.dcf | 27-Jun-2024 00:39 | 272 | ||
buildsrc-summary.dcf | 27-Jun-2024 00:39 | 432 | ||
buildsrc-out.txt | 27-Jun-2024 00:39 | 824 | ||
checksrc-out.txt | 27-Jun-2024 00:39 | 4.3K | ||
checksrc-summary.dcf | 27-Jun-2024 00:39 | 451 | ||
buildbin-out.txt | 27-Jun-2024 00:39 | 1.2K | ||
buildbin-summary.dcf | 27-Jun-2024 00:39 | 541 | ||