Index of /checkResults/devel/bioc-LATEST/flowFP/raw-results/palomino3

[ICO]NameLast modifiedSizeDescription

[DIR]Parent Directory  -  
[TXT]buildbin-out.txt02-Mar-2024 01:37 2.3K 
[   ]buildbin-summary.dcf02-Mar-2024 01:37 509  
[TXT]buildsrc-out.txt02-Mar-2024 01:37 1.1K 
[   ]buildsrc-summary.dcf02-Mar-2024 01:37 447  
[TXT]checksrc-out.txt02-Mar-2024 01:37 4.5K 
[   ]checksrc-summary.dcf02-Mar-2024 01:37 443  
[TXT]install-out.txt02-Mar-2024 01:37 2.1K 
[   ]install-summary.dcf02-Mar-2024 01:37 266