Index of /checkResults/devel/bioc-LATEST/flowFP/raw-results/nebbiolo1

[ICO]NameLast modifiedSizeDescription

[DIR]Parent Directory  -  
[TXT]buildsrc-out.txt29-Feb-2024 01:36 943  
[   ]buildsrc-summary.dcf29-Feb-2024 01:36 414  
[TXT]checksrc-out.txt29-Feb-2024 01:36 4.0K 
[   ]checksrc-summary.dcf29-Feb-2024 01:36 409  
[TXT]install-out.txt29-Feb-2024 01:36 1.9K 
[   ]install-summary.dcf29-Feb-2024 01:36 257