Index of /checkResults/devel/bioc-LATEST/flowFP/raw-results/lconway

[ICO]NameLast modifiedSizeDescription

[DIR]Parent Directory  -  
[TXT]buildbin-out.txt26-Sep-2023 00:38 4.1K 
[   ]buildbin-summary.dcf26-Sep-2023 00:38 524  
[TXT]buildsrc-out.txt26-Sep-2023 00:38 953  
[   ]buildsrc-summary.dcf26-Sep-2023 00:38 424  
[TXT]checksrc-out.txt26-Sep-2023 00:38 4.2K 
[   ]checksrc-summary.dcf26-Sep-2023 00:38 440  
[TXT]install-out.txt26-Sep-2023 00:38 2.3K 
[   ]install-summary.dcf26-Sep-2023 00:38 267