![]() | Name | Last modified | Size | Description |
---|---|---|---|---|
![]() | Parent Directory | - | ||
![]() | buildsrc-out.txt | 08-Dec-2023 01:39 | 952 | |
![]() | buildsrc-summary.dcf | 08-Dec-2023 01:39 | 423 | |
![]() | checksrc-out.txt | 08-Dec-2023 01:39 | 4.2K | |
![]() | checksrc-summary.dcf | 08-Dec-2023 01:39 | 442 | |
![]() | install-out.txt | 08-Dec-2023 01:39 | 1.8K | |
![]() | install-summary.dcf | 08-Dec-2023 01:39 | 266 | |