Back to Multiple platform build/check report for BioC 3.15
ABCDE[F]GHIJKLMNOPQRSTUVWXYZ

This page was generated on 2022-01-25 11:07:14 -0500 (Tue, 25 Jan 2022).

HostnameOSArch (*)R versionInstalled pkgs
nebbiolo1Linux (Ubuntu 20.04.4 LTS)x86_64R Under development (unstable) (2022-01-05 r81451) -- "Unsuffered Consequences" 4164
riesling1Windows Server 2019 Standardx64R Under development (unstable) (2021-11-21 r81221) -- "Unsuffered Consequences" 4059
palomino3Windows Server 2022 Datacenterx64R Under development (unstable) (2021-12-21 r81400 ucrt) -- "Unsuffered Consequences" 4001
merida1macOS 10.14.6 Mojavex86_64R Under development (unstable) (2022-01-05 r81451) -- "Unsuffered Consequences" 4118
Click on any hostname to see more info about the system (e.g. compilers)      (*) as reported by 'uname -p', except on Windows and Mac OS X

CHECK results for flowCore on riesling1


To the developers/maintainers of the flowCore package:
- Please allow up to 24 hours (and sometimes 48 hours) for your latest push to git@git.bioconductor.org:packages/flowCore.git to
reflect on this report. See How and When does the builder pull? When will my changes propagate? here for more information.
- Make sure to use the following settings in order to reproduce any error or warning you see on this page.

raw results

Package 654/2075HostnameOS / ArchINSTALLBUILDCHECKBUILD BIN
flowCore 2.7.0  (landing page)
Mike Jiang
Snapshot Date: 2022-01-24 13:55:18 -0500 (Mon, 24 Jan 2022)
git_url: https://git.bioconductor.org/packages/flowCore
git_branch: master
git_last_commit: f9ecce1
git_last_commit_date: 2021-10-26 11:50:30 -0500 (Tue, 26 Oct 2021)
nebbiolo1Linux (Ubuntu 20.04.4 LTS) / x86_64  OK    OK    OK  UNNEEDED, same version is already published
riesling1Windows Server 2019 Standard / x64  OK    OK    OK    OK  
palomino3Windows Server 2022 Datacenter / x64  ERROR    ERROR  skippedskipped
merida1macOS 10.14.6 Mojave / x86_64  OK    OK    OK    OK  UNNEEDED, same version is already published

Summary

Package: flowCore
Version: 2.7.0
Command: D:\biocbuild\bbs-3.15-bioc\R\bin\R.exe CMD check --no-multiarch --install=check:flowCore.install-out.txt --library=D:\biocbuild\bbs-3.15-bioc\R\library --no-vignettes --timings flowCore_2.7.0.tar.gz
StartedAt: 2022-01-24 18:54:51 -0500 (Mon, 24 Jan 2022)
EndedAt: 2022-01-24 18:57:19 -0500 (Mon, 24 Jan 2022)
EllapsedTime: 147.5 seconds
RetCode: 0
Status:   OK  
CheckDir: flowCore.Rcheck
Warnings: 0

Command output

##############################################################################
##############################################################################
###
### Running command:
###
###   D:\biocbuild\bbs-3.15-bioc\R\bin\R.exe CMD check --no-multiarch --install=check:flowCore.install-out.txt --library=D:\biocbuild\bbs-3.15-bioc\R\library --no-vignettes --timings flowCore_2.7.0.tar.gz
###
##############################################################################
##############################################################################


* using log directory 'D:/biocbuild/bbs-3.15-bioc/meat/flowCore.Rcheck'
* using R Under development (unstable) (2021-11-21 r81221)
* using platform: x86_64-w64-mingw32 (64-bit)
* using session charset: ISO8859-1
* using option '--no-vignettes'
* checking for file 'flowCore/DESCRIPTION' ... OK
* this is package 'flowCore' version '2.7.0'
* package encoding: UTF-8
* checking package namespace information ... OK
* checking package dependencies ... OK
* checking if this is a source package ... OK
* checking if there is a namespace ... OK
* checking for hidden files and directories ... OK
* checking for portable file names ... OK
* checking whether package 'flowCore' can be installed ... OK
* checking installed package size ... NOTE
  installed size is 12.1Mb
  sub-directories of 1Mb or more:
    R         1.1Mb
    data      5.0Mb
    extdata   1.1Mb
    help      1.2Mb
    libs      2.6Mb
* checking package directory ... OK
* checking 'build' directory ... OK
* checking DESCRIPTION meta-information ... OK
* checking top-level files ... OK
* checking for left-over files ... OK
* checking index information ... OK
* checking package subdirectories ... OK
* checking R files for non-ASCII characters ... OK
* checking R files for syntax errors ... OK
* checking whether the package can be loaded ... OK
* checking whether the package can be loaded with stated dependencies ... OK
* checking whether the package can be unloaded cleanly ... OK
* checking whether the namespace can be loaded with stated dependencies ... OK
* checking whether the namespace can be unloaded cleanly ... OK
* checking dependencies in R code ... OK
* checking S3 generic/method consistency ... OK
* checking replacement functions ... OK
* checking foreign function calls ... OK
* checking R code for possible problems ... NOTE
eval,compensatedParameter-missing : <anonymous>: no visible binding for
  global variable 'mat'
eval,compensatedParameter-missing : <anonymous>: no visible binding for
  global variable 'msv'
show,flowFrame: no visible global function definition for
  'capture.output'
Undefined global functions or variables:
  capture.output mat msv
Consider adding
  importFrom("utils", "capture.output")
to your NAMESPACE file.
* checking Rd files ... OK
* checking Rd metadata ... OK
* checking Rd cross-references ... OK
* checking for missing documentation entries ... OK
* checking for code/documentation mismatches ... OK
* checking Rd \usage sections ... OK
* checking Rd contents ... OK
* checking for unstated dependencies in examples ... OK
* checking contents of 'data' directory ... NOTE
Output for data("GvHD", package = "flowCore"):
  There were 36 warnings (use warnings() to see them)
* checking data for non-ASCII characters ... OK
* checking data for ASCII and uncompressed saves ... OK
* checking line endings in C/C++/Fortran sources/headers ... OK
* checking line endings in Makefiles ... OK
* checking compilation flags in Makevars ... OK
* checking for GNU extensions in Makefiles ... OK
* checking for portable use of $(BLAS_LIBS) and $(LAPACK_LIBS) ... OK
* checking use of PKG_*FLAGS in Makefiles ... OK
* checking compiled code ... NOTE
Note: information on .o files for x64 is not available
File 'D:/biocbuild/bbs-3.15-bioc/R/library/flowCore/libs/x64/flowCore.dll':
  Found 'abort', possibly from 'abort' (C), 'runtime' (Fortran)
  Found 'exit', possibly from 'exit' (C), 'stop' (Fortran)
  Found 'printf', possibly from 'printf' (C)
  Found 'rand', possibly from 'rand' (C)
  Found 'srand', possibly from 'srand' (C)

Compiled code should not call entry points which might terminate R nor
write to stdout/stderr instead of to the console, nor use Fortran I/O
nor system RNGs. The detected symbols are linked into the code but
might come from libraries and not actually be called.

See 'Writing portable packages' in the 'Writing R Extensions' manual.
* checking installed files from 'inst/doc' ... OK
* checking files in 'vignettes' ... OK
* checking examples ... OK
* checking for unstated dependencies in 'tests' ... OK
* checking tests ...
  Running 'testthat.R'
 OK
* checking for unstated dependencies in vignettes ... OK
* checking package vignettes in 'inst/doc' ... OK
* checking running R code from vignettes ... SKIPPED
* checking re-building of vignette outputs ... SKIPPED
* checking PDF version of manual ... OK
* DONE

Status: 4 NOTEs
See
  'D:/biocbuild/bbs-3.15-bioc/meat/flowCore.Rcheck/00check.log'
for details.



Installation output

flowCore.Rcheck/00install.out

##############################################################################
##############################################################################
###
### Running command:
###
###   D:\biocbuild\bbs-3.15-bioc\R\bin\R.exe CMD INSTALL flowCore
###
##############################################################################
##############################################################################


* installing to library 'D:/biocbuild/bbs-3.15-bioc/R/library'
* installing *source* package 'flowCore' ...
** using staged installation
** libs
"C:/rtools40/mingw64/bin/"g++  -std=gnu++11 -I"D:/biocbuild/bbs-3.15-bioc/R/include" -DNDEBUG  -I'D:/biocbuild/bbs-3.15-bioc/R/library/Rcpp/include' -I'D:/biocbuild/bbs-3.15-bioc/R/library/RcppArmadillo/include' -I'D:/biocbuild/bbs-3.15-bioc/R/library/BH/include' -I'D:/biocbuild/bbs-3.15-bioc/R/library/cytolib/include' -I'D:/biocbuild/bbs-3.15-bioc/R/library/RProtoBufLib/include'   -I"C:/extsoft/include"     -O2 -Wall  -mfpmath=sse -msse2 -mstackrealign -fno-reorder-blocks-and-partition  -c FastLogicle.cpp -o FastLogicle.o
"C:/rtools40/mingw64/bin/"g++  -std=gnu++11 -I"D:/biocbuild/bbs-3.15-bioc/R/include" -DNDEBUG  -I'D:/biocbuild/bbs-3.15-bioc/R/library/Rcpp/include' -I'D:/biocbuild/bbs-3.15-bioc/R/library/RcppArmadillo/include' -I'D:/biocbuild/bbs-3.15-bioc/R/library/BH/include' -I'D:/biocbuild/bbs-3.15-bioc/R/library/cytolib/include' -I'D:/biocbuild/bbs-3.15-bioc/R/library/RProtoBufLib/include'   -I"C:/extsoft/include"     -O2 -Wall  -mfpmath=sse -msse2 -mstackrealign -fno-reorder-blocks-and-partition  -c Hyperlog.cpp -o Hyperlog.o
"C:/rtools40/mingw64/bin/"g++  -std=gnu++11 -I"D:/biocbuild/bbs-3.15-bioc/R/include" -DNDEBUG  -I'D:/biocbuild/bbs-3.15-bioc/R/library/Rcpp/include' -I'D:/biocbuild/bbs-3.15-bioc/R/library/RcppArmadillo/include' -I'D:/biocbuild/bbs-3.15-bioc/R/library/BH/include' -I'D:/biocbuild/bbs-3.15-bioc/R/library/cytolib/include' -I'D:/biocbuild/bbs-3.15-bioc/R/library/RProtoBufLib/include'   -I"C:/extsoft/include"     -O2 -Wall  -mfpmath=sse -msse2 -mstackrealign -fno-reorder-blocks-and-partition  -c Logicle.cpp -o Logicle.o
"C:/rtools40/mingw64/bin/"g++  -std=gnu++11 -I"D:/biocbuild/bbs-3.15-bioc/R/include" -DNDEBUG  -I'D:/biocbuild/bbs-3.15-bioc/R/library/Rcpp/include' -I'D:/biocbuild/bbs-3.15-bioc/R/library/RcppArmadillo/include' -I'D:/biocbuild/bbs-3.15-bioc/R/library/BH/include' -I'D:/biocbuild/bbs-3.15-bioc/R/library/cytolib/include' -I'D:/biocbuild/bbs-3.15-bioc/R/library/RProtoBufLib/include'   -I"C:/extsoft/include"     -O2 -Wall  -mfpmath=sse -msse2 -mstackrealign -fno-reorder-blocks-and-partition  -c RcppExports.cpp -o RcppExports.o
In file included from D:/biocbuild/bbs-3.15-bioc/R/library/BH/include/boost/mpl/aux_/na_assert.hpp:23,
                 from D:/biocbuild/bbs-3.15-bioc/R/library/BH/include/boost/mpl/arg.hpp:25,
                 from D:/biocbuild/bbs-3.15-bioc/R/library/BH/include/boost/mpl/placeholders.hpp:24,
                 from D:/biocbuild/bbs-3.15-bioc/R/library/BH/include/boost/iterator/iterator_categories.hpp:16,
                 from D:/biocbuild/bbs-3.15-bioc/R/library/BH/include/boost/iterator/iterator_facade.hpp:13,
                 from D:/biocbuild/bbs-3.15-bioc/R/library/BH/include/boost/range/iterator_range_core.hpp:27,
                 from D:/biocbuild/bbs-3.15-bioc/R/library/BH/include/boost/range/iterator_range.hpp:13,
                 from D:/biocbuild/bbs-3.15-bioc/R/library/BH/include/boost/range/as_literal.hpp:18,
                 from D:/biocbuild/bbs-3.15-bioc/R/library/BH/include/boost/algorithm/string/trim.hpp:19,
                 from D:/biocbuild/bbs-3.15-bioc/R/library/BH/include/boost/algorithm/string.hpp:19,
                 from D:/biocbuild/bbs-3.15-bioc/R/library/cytolib/include/cytolib/transformation.hpp:18,
                 from D:/biocbuild/bbs-3.15-bioc/R/library/cytolib/include/cytolib/compensation.hpp:15,
                 from pairVectorRcppWrap.h:10,
                 from flowCore_types.h:12,
                 from RcppExports.cpp:4:
D:/biocbuild/bbs-3.15-bioc/R/library/BH/include/boost/mpl/assert.hpp:194:21: warning: unnecessary parentheses in declaration of 'assert_arg' [-Wparentheses]
 failed ************ (Pred::************
                     ^
D:/biocbuild/bbs-3.15-bioc/R/library/BH/include/boost/mpl/assert.hpp:199:21: warning: unnecessary parentheses in declaration of 'assert_not_arg' [-Wparentheses]
 failed ************ (boost::mpl::not_<Pred>::************
                     ^
In file included from D:/biocbuild/bbs-3.15-bioc/R/library/BH/include/boost/bind/mem_fn.hpp:25,
                 from D:/biocbuild/bbs-3.15-bioc/R/library/BH/include/boost/mem_fn.hpp:22,
                 from D:/biocbuild/bbs-3.15-bioc/R/library/BH/include/boost/function/detail/prologue.hpp:18,
                 from D:/biocbuild/bbs-3.15-bioc/R/library/BH/include/boost/function.hpp:30,
                 from D:/biocbuild/bbs-3.15-bioc/R/library/BH/include/boost/algorithm/string/detail/find_iterator.hpp:18,
                 from D:/biocbuild/bbs-3.15-bioc/R/library/BH/include/boost/algorithm/string/find_iterator.hpp:24,
                 from D:/biocbuild/bbs-3.15-bioc/R/library/BH/include/boost/algorithm/string/iter_find.hpp:27,
                 from D:/biocbuild/bbs-3.15-bioc/R/library/BH/include/boost/algorithm/string/split.hpp:16,
                 from D:/biocbuild/bbs-3.15-bioc/R/library/BH/include/boost/algorithm/string.hpp:23,
                 from D:/biocbuild/bbs-3.15-bioc/R/library/cytolib/include/cytolib/transformation.hpp:18,
                 from D:/biocbuild/bbs-3.15-bioc/R/library/cytolib/include/cytolib/compensation.hpp:15,
                 from pairVectorRcppWrap.h:10,
                 from flowCore_types.h:12,
                 from RcppExports.cpp:4:
D:/biocbuild/bbs-3.15-bioc/R/library/BH/include/boost/get_pointer.hpp:48:40: warning: 'template<class> class std::auto_ptr' is deprecated [-Wdeprecated-declarations]
 template<class T> T * get_pointer(std::auto_ptr<T> const& p)
                                        ^~~~~~~~
In file included from C:/rtools40/mingw64/include/c++/8.3.0/memory:80,
                 from D:/biocbuild/bbs-3.15-bioc/R/library/RProtoBufLib/include/google/protobuf/stubs/common.h:41,
                 from D:/biocbuild/bbs-3.15-bioc/R/library/RProtoBufLib/include/google/protobuf/io/coded_stream.h:141,
                 from D:/biocbuild/bbs-3.15-bioc/R/library/RProtoBufLib/include/cytolib/GatingSet.pb.h:23,
                 from D:/biocbuild/bbs-3.15-bioc/R/library/cytolib/include/cytolib/calibrationTable.hpp:19,
                 from D:/biocbuild/bbs-3.15-bioc/R/library/cytolib/include/cytolib/transformation.hpp:17,
                 from D:/biocbuild/bbs-3.15-bioc/R/library/cytolib/include/cytolib/compensation.hpp:15,
                 from pairVectorRcppWrap.h:10,
                 from flowCore_types.h:12,
                 from RcppExports.cpp:4:
C:/rtools40/mingw64/include/c++/8.3.0/bits/unique_ptr.h:53:28: note: declared here
   template<typename> class auto_ptr;
                            ^~~~~~~~
In file included from pairVectorRcppWrap.h:10,
                 from flowCore_types.h:12,
                 from RcppExports.cpp:4:
D:/biocbuild/bbs-3.15-bioc/R/library/cytolib/include/cytolib/compensation.hpp: In constructor 'cytolib::compensation::compensation(const string&)':
D:/biocbuild/bbs-3.15-bioc/R/library/cytolib/include/cytolib/compensation.hpp:58:20: warning: comparison of integer expressions of different signedness: 'std::vector<std::__cxx11::basic_string<char>, std::allocator<std::__cxx11::basic_string<char> > >::size_type' {aka 'long long unsigned int'} and 'int' [-Wsign-compare]
   if(valVec.size() != 1+n+n*n){
      ~~~~~~~~~~~~~~^~~~~~~~~~
D:/biocbuild/bbs-3.15-bioc/R/library/cytolib/include/cytolib/compensation.hpp:62:21: warning: comparison of integer expressions of different signedness: 'std::vector<std::__cxx11::basic_string<char>, std::allocator<std::__cxx11::basic_string<char> > >::size_type' {aka 'long long unsigned int'} and 'int' [-Wsign-compare]
    if(valVec.size() == 1+n+2*n*n){
       ~~~~~~~~~~~~~~^~~~~~~~~~~~
D:/biocbuild/bbs-3.15-bioc/R/library/cytolib/include/cytolib/compensation.hpp:68:33: warning: comparison of integer expressions of different signedness: 'int' and 'std::vector<std::__cxx11::basic_string<char>, std::allocator<std::__cxx11::basic_string<char> > >::size_type' {aka 'long long unsigned int'} [-Wsign-compare]
     for(int i = 1+n, j = 1+n; i < valVec_fixed.size(); i++, j+=2)
                               ~~^~~~~~~~~~~~~~~~~~~~~
"C:/rtools40/mingw64/bin/"g++  -std=gnu++11 -I"D:/biocbuild/bbs-3.15-bioc/R/include" -DNDEBUG  -I'D:/biocbuild/bbs-3.15-bioc/R/library/Rcpp/include' -I'D:/biocbuild/bbs-3.15-bioc/R/library/RcppArmadillo/include' -I'D:/biocbuild/bbs-3.15-bioc/R/library/BH/include' -I'D:/biocbuild/bbs-3.15-bioc/R/library/cytolib/include' -I'D:/biocbuild/bbs-3.15-bioc/R/library/RProtoBufLib/include'   -I"C:/extsoft/include"     -O2 -Wall  -mfpmath=sse -msse2 -mstackrealign -fno-reorder-blocks-and-partition  -c biexponential.cpp -o biexponential.o
"C:/rtools40/mingw64/bin/"g++  -std=gnu++11 -I"D:/biocbuild/bbs-3.15-bioc/R/include" -DNDEBUG  -I'D:/biocbuild/bbs-3.15-bioc/R/library/Rcpp/include' -I'D:/biocbuild/bbs-3.15-bioc/R/library/RcppArmadillo/include' -I'D:/biocbuild/bbs-3.15-bioc/R/library/BH/include' -I'D:/biocbuild/bbs-3.15-bioc/R/library/cytolib/include' -I'D:/biocbuild/bbs-3.15-bioc/R/library/RProtoBufLib/include'   -I"C:/extsoft/include"     -O2 -Wall  -mfpmath=sse -msse2 -mstackrealign -fno-reorder-blocks-and-partition  -c convertRawBytes.cpp -o convertRawBytes.o
"C:/rtools40/mingw64/bin/"g++  -std=gnu++11 -I"D:/biocbuild/bbs-3.15-bioc/R/include" -DNDEBUG  -I'D:/biocbuild/bbs-3.15-bioc/R/library/Rcpp/include' -I'D:/biocbuild/bbs-3.15-bioc/R/library/RcppArmadillo/include' -I'D:/biocbuild/bbs-3.15-bioc/R/library/BH/include' -I'D:/biocbuild/bbs-3.15-bioc/R/library/cytolib/include' -I'D:/biocbuild/bbs-3.15-bioc/R/library/RProtoBufLib/include'   -I"C:/extsoft/include"     -O2 -Wall  -mfpmath=sse -msse2 -mstackrealign -fno-reorder-blocks-and-partition  -c fcsTextParse.cpp -o fcsTextParse.o
In file included from D:/biocbuild/bbs-3.15-bioc/R/library/BH/include/boost/mpl/aux_/na_assert.hpp:23,
                 from D:/biocbuild/bbs-3.15-bioc/R/library/BH/include/boost/mpl/arg.hpp:25,
                 from D:/biocbuild/bbs-3.15-bioc/R/library/BH/include/boost/mpl/placeholders.hpp:24,
                 from D:/biocbuild/bbs-3.15-bioc/R/library/BH/include/boost/iterator/iterator_categories.hpp:16,
                 from D:/biocbuild/bbs-3.15-bioc/R/library/BH/include/boost/iterator/iterator_facade.hpp:13,
                 from D:/biocbuild/bbs-3.15-bioc/R/library/BH/include/boost/range/iterator_range_core.hpp:27,
                 from D:/biocbuild/bbs-3.15-bioc/R/library/BH/include/boost/range/iterator_range.hpp:13,
                 from D:/biocbuild/bbs-3.15-bioc/R/library/BH/include/boost/range/as_literal.hpp:18,
                 from D:/biocbuild/bbs-3.15-bioc/R/library/BH/include/boost/algorithm/string/trim.hpp:19,
                 from D:/biocbuild/bbs-3.15-bioc/R/library/BH/include/boost/algorithm/string.hpp:19,
                 from fcsTextParse.cpp:8:
D:/biocbuild/bbs-3.15-bioc/R/library/BH/include/boost/mpl/assert.hpp:194:21: warning: unnecessary parentheses in declaration of 'assert_arg' [-Wparentheses]
 failed ************ (Pred::************
                     ^
D:/biocbuild/bbs-3.15-bioc/R/library/BH/include/boost/mpl/assert.hpp:199:21: warning: unnecessary parentheses in declaration of 'assert_not_arg' [-Wparentheses]
 failed ************ (boost::mpl::not_<Pred>::************
                     ^
In file included from D:/biocbuild/bbs-3.15-bioc/R/library/BH/include/boost/bind/mem_fn.hpp:25,
                 from D:/biocbuild/bbs-3.15-bioc/R/library/BH/include/boost/mem_fn.hpp:22,
                 from D:/biocbuild/bbs-3.15-bioc/R/library/BH/include/boost/function/detail/prologue.hpp:18,
                 from D:/biocbuild/bbs-3.15-bioc/R/library/BH/include/boost/function.hpp:30,
                 from D:/biocbuild/bbs-3.15-bioc/R/library/BH/include/boost/algorithm/string/detail/find_iterator.hpp:18,
                 from D:/biocbuild/bbs-3.15-bioc/R/library/BH/include/boost/algorithm/string/find_iterator.hpp:24,
                 from D:/biocbuild/bbs-3.15-bioc/R/library/BH/include/boost/algorithm/string/iter_find.hpp:27,
                 from D:/biocbuild/bbs-3.15-bioc/R/library/BH/include/boost/algorithm/string/split.hpp:16,
                 from D:/biocbuild/bbs-3.15-bioc/R/library/BH/include/boost/algorithm/string.hpp:23,
                 from fcsTextParse.cpp:8:
D:/biocbuild/bbs-3.15-bioc/R/library/BH/include/boost/get_pointer.hpp:48:40: warning: 'template<class> class std::auto_ptr' is deprecated [-Wdeprecated-declarations]
 template<class T> T * get_pointer(std::auto_ptr<T> const& p)
                                        ^~~~~~~~
In file included from C:/rtools40/mingw64/include/c++/8.3.0/bits/locale_conv.h:41,
                 from C:/rtools40/mingw64/include/c++/8.3.0/locale:43,
                 from D:/biocbuild/bbs-3.15-bioc/R/library/BH/include/boost/algorithm/string/classification.hpp:15,
                 from D:/biocbuild/bbs-3.15-bioc/R/library/BH/include/boost/algorithm/string/trim.hpp:23,
                 from D:/biocbuild/bbs-3.15-bioc/R/library/BH/include/boost/algorithm/string.hpp:19,
                 from fcsTextParse.cpp:8:
C:/rtools40/mingw64/include/c++/8.3.0/bits/unique_ptr.h:53:28: note: declared here
   template<typename> class auto_ptr;
                            ^~~~~~~~
In file included from pairVectorRcppWrap.h:10,
                 from fcsTextParse.cpp:10:
D:/biocbuild/bbs-3.15-bioc/R/library/cytolib/include/cytolib/compensation.hpp: In constructor 'cytolib::compensation::compensation(const string&)':
D:/biocbuild/bbs-3.15-bioc/R/library/cytolib/include/cytolib/compensation.hpp:58:20: warning: comparison of integer expressions of different signedness: 'std::vector<std::__cxx11::basic_string<char>, std::allocator<std::__cxx11::basic_string<char> > >::size_type' {aka 'long long unsigned int'} and 'int' [-Wsign-compare]
   if(valVec.size() != 1+n+n*n){
      ~~~~~~~~~~~~~~^~~~~~~~~~
D:/biocbuild/bbs-3.15-bioc/R/library/cytolib/include/cytolib/compensation.hpp:62:21: warning: comparison of integer expressions of different signedness: 'std::vector<std::__cxx11::basic_string<char>, std::allocator<std::__cxx11::basic_string<char> > >::size_type' {aka 'long long unsigned int'} and 'int' [-Wsign-compare]
    if(valVec.size() == 1+n+2*n*n){
       ~~~~~~~~~~~~~~^~~~~~~~~~~~
D:/biocbuild/bbs-3.15-bioc/R/library/cytolib/include/cytolib/compensation.hpp:68:33: warning: comparison of integer expressions of different signedness: 'int' and 'std::vector<std::__cxx11::basic_string<char>, std::allocator<std::__cxx11::basic_string<char> > >::size_type' {aka 'long long unsigned int'} [-Wsign-compare]
     for(int i = 1+n, j = 1+n; i < valVec_fixed.size(); i++, j+=2)
                               ~~^~~~~~~~~~~~~~~~~~~~~
"C:/rtools40/mingw64/bin/"g++  -std=gnu++11 -I"D:/biocbuild/bbs-3.15-bioc/R/include" -DNDEBUG  -I'D:/biocbuild/bbs-3.15-bioc/R/library/Rcpp/include' -I'D:/biocbuild/bbs-3.15-bioc/R/library/RcppArmadillo/include' -I'D:/biocbuild/bbs-3.15-bioc/R/library/BH/include' -I'D:/biocbuild/bbs-3.15-bioc/R/library/cytolib/include' -I'D:/biocbuild/bbs-3.15-bioc/R/library/RProtoBufLib/include'   -I"C:/extsoft/include"     -O2 -Wall  -mfpmath=sse -msse2 -mstackrealign -fno-reorder-blocks-and-partition  -c hyperlogTransform.cpp -o hyperlogTransform.o
"C:/rtools40/mingw64/bin/"g++  -std=gnu++11 -I"D:/biocbuild/bbs-3.15-bioc/R/include" -DNDEBUG  -I'D:/biocbuild/bbs-3.15-bioc/R/library/Rcpp/include' -I'D:/biocbuild/bbs-3.15-bioc/R/library/RcppArmadillo/include' -I'D:/biocbuild/bbs-3.15-bioc/R/library/BH/include' -I'D:/biocbuild/bbs-3.15-bioc/R/library/cytolib/include' -I'D:/biocbuild/bbs-3.15-bioc/R/library/RProtoBufLib/include'   -I"C:/extsoft/include"     -O2 -Wall  -mfpmath=sse -msse2 -mstackrealign -fno-reorder-blocks-and-partition  -c inPolygon.cpp -o inPolygon.o
"C:/rtools40/mingw64/bin/"g++  -std=gnu++11 -I"D:/biocbuild/bbs-3.15-bioc/R/include" -DNDEBUG  -I'D:/biocbuild/bbs-3.15-bioc/R/library/Rcpp/include' -I'D:/biocbuild/bbs-3.15-bioc/R/library/RcppArmadillo/include' -I'D:/biocbuild/bbs-3.15-bioc/R/library/BH/include' -I'D:/biocbuild/bbs-3.15-bioc/R/library/cytolib/include' -I'D:/biocbuild/bbs-3.15-bioc/R/library/RProtoBufLib/include'   -I"C:/extsoft/include"     -O2 -Wall  -mfpmath=sse -msse2 -mstackrealign -fno-reorder-blocks-and-partition  -c inPolytope.cpp -o inPolytope.o
"C:/rtools40/mingw64/bin/"g++  -std=gnu++11 -I"D:/biocbuild/bbs-3.15-bioc/R/include" -DNDEBUG  -I'D:/biocbuild/bbs-3.15-bioc/R/library/Rcpp/include' -I'D:/biocbuild/bbs-3.15-bioc/R/library/RcppArmadillo/include' -I'D:/biocbuild/bbs-3.15-bioc/R/library/BH/include' -I'D:/biocbuild/bbs-3.15-bioc/R/library/cytolib/include' -I'D:/biocbuild/bbs-3.15-bioc/R/library/RProtoBufLib/include'   -I"C:/extsoft/include"     -O2 -Wall  -mfpmath=sse -msse2 -mstackrealign -fno-reorder-blocks-and-partition  -c logicleTransform.cpp -o logicleTransform.o
"C:/rtools40/mingw64/bin/"g++  -std=gnu++11 -I"D:/biocbuild/bbs-3.15-bioc/R/include" -DNDEBUG  -I'D:/biocbuild/bbs-3.15-bioc/R/library/Rcpp/include' -I'D:/biocbuild/bbs-3.15-bioc/R/library/RcppArmadillo/include' -I'D:/biocbuild/bbs-3.15-bioc/R/library/BH/include' -I'D:/biocbuild/bbs-3.15-bioc/R/library/cytolib/include' -I'D:/biocbuild/bbs-3.15-bioc/R/library/RProtoBufLib/include'   -I"C:/extsoft/include"     -O2 -Wall  -mfpmath=sse -msse2 -mstackrealign -fno-reorder-blocks-and-partition  -c pairVectorRcppWrap.cpp -o pairVectorRcppWrap.o
In file included from D:/biocbuild/bbs-3.15-bioc/R/library/BH/include/boost/mpl/aux_/na_assert.hpp:23,
                 from D:/biocbuild/bbs-3.15-bioc/R/library/BH/include/boost/mpl/arg.hpp:25,
                 from D:/biocbuild/bbs-3.15-bioc/R/library/BH/include/boost/mpl/placeholders.hpp:24,
                 from D:/biocbuild/bbs-3.15-bioc/R/library/BH/include/boost/iterator/iterator_categories.hpp:16,
                 from D:/biocbuild/bbs-3.15-bioc/R/library/BH/include/boost/iterator/iterator_facade.hpp:13,
                 from D:/biocbuild/bbs-3.15-bioc/R/library/BH/include/boost/range/iterator_range_core.hpp:27,
                 from D:/biocbuild/bbs-3.15-bioc/R/library/BH/include/boost/range/iterator_range.hpp:13,
                 from D:/biocbuild/bbs-3.15-bioc/R/library/BH/include/boost/range/as_literal.hpp:18,
                 from D:/biocbuild/bbs-3.15-bioc/R/library/BH/include/boost/algorithm/string/trim.hpp:19,
                 from D:/biocbuild/bbs-3.15-bioc/R/library/BH/include/boost/algorithm/string.hpp:19,
                 from D:/biocbuild/bbs-3.15-bioc/R/library/cytolib/include/cytolib/transformation.hpp:18,
                 from D:/biocbuild/bbs-3.15-bioc/R/library/cytolib/include/cytolib/compensation.hpp:15,
                 from pairVectorRcppWrap.h:10,
                 from pairVectorRcppWrap.cpp:7:
D:/biocbuild/bbs-3.15-bioc/R/library/BH/include/boost/mpl/assert.hpp:194:21: warning: unnecessary parentheses in declaration of 'assert_arg' [-Wparentheses]
 failed ************ (Pred::************
                     ^
D:/biocbuild/bbs-3.15-bioc/R/library/BH/include/boost/mpl/assert.hpp:199:21: warning: unnecessary parentheses in declaration of 'assert_not_arg' [-Wparentheses]
 failed ************ (boost::mpl::not_<Pred>::************
                     ^
In file included from D:/biocbuild/bbs-3.15-bioc/R/library/BH/include/boost/bind/mem_fn.hpp:25,
                 from D:/biocbuild/bbs-3.15-bioc/R/library/BH/include/boost/mem_fn.hpp:22,
                 from D:/biocbuild/bbs-3.15-bioc/R/library/BH/include/boost/function/detail/prologue.hpp:18,
                 from D:/biocbuild/bbs-3.15-bioc/R/library/BH/include/boost/function.hpp:30,
                 from D:/biocbuild/bbs-3.15-bioc/R/library/BH/include/boost/algorithm/string/detail/find_iterator.hpp:18,
                 from D:/biocbuild/bbs-3.15-bioc/R/library/BH/include/boost/algorithm/string/find_iterator.hpp:24,
                 from D:/biocbuild/bbs-3.15-bioc/R/library/BH/include/boost/algorithm/string/iter_find.hpp:27,
                 from D:/biocbuild/bbs-3.15-bioc/R/library/BH/include/boost/algorithm/string/split.hpp:16,
                 from D:/biocbuild/bbs-3.15-bioc/R/library/BH/include/boost/algorithm/string.hpp:23,
                 from D:/biocbuild/bbs-3.15-bioc/R/library/cytolib/include/cytolib/transformation.hpp:18,
                 from D:/biocbuild/bbs-3.15-bioc/R/library/cytolib/include/cytolib/compensation.hpp:15,
                 from pairVectorRcppWrap.h:10,
                 from pairVectorRcppWrap.cpp:7:
D:/biocbuild/bbs-3.15-bioc/R/library/BH/include/boost/get_pointer.hpp:48:40: warning: 'template<class> class std::auto_ptr' is deprecated [-Wdeprecated-declarations]
 template<class T> T * get_pointer(std::auto_ptr<T> const& p)
                                        ^~~~~~~~
In file included from C:/rtools40/mingw64/include/c++/8.3.0/memory:80,
                 from D:/biocbuild/bbs-3.15-bioc/R/library/RProtoBufLib/include/google/protobuf/stubs/common.h:41,
                 from D:/biocbuild/bbs-3.15-bioc/R/library/RProtoBufLib/include/google/protobuf/io/coded_stream.h:141,
                 from D:/biocbuild/bbs-3.15-bioc/R/library/RProtoBufLib/include/cytolib/GatingSet.pb.h:23,
                 from D:/biocbuild/bbs-3.15-bioc/R/library/cytolib/include/cytolib/calibrationTable.hpp:19,
                 from D:/biocbuild/bbs-3.15-bioc/R/library/cytolib/include/cytolib/transformation.hpp:17,
                 from D:/biocbuild/bbs-3.15-bioc/R/library/cytolib/include/cytolib/compensation.hpp:15,
                 from pairVectorRcppWrap.h:10,
                 from pairVectorRcppWrap.cpp:7:
C:/rtools40/mingw64/include/c++/8.3.0/bits/unique_ptr.h:53:28: note: declared here
   template<typename> class auto_ptr;
                            ^~~~~~~~
In file included from pairVectorRcppWrap.h:10,
                 from pairVectorRcppWrap.cpp:7:
D:/biocbuild/bbs-3.15-bioc/R/library/cytolib/include/cytolib/compensation.hpp: In constructor 'cytolib::compensation::compensation(const string&)':
D:/biocbuild/bbs-3.15-bioc/R/library/cytolib/include/cytolib/compensation.hpp:58:20: warning: comparison of integer expressions of different signedness: 'std::vector<std::__cxx11::basic_string<char>, std::allocator<std::__cxx11::basic_string<char> > >::size_type' {aka 'long long unsigned int'} and 'int' [-Wsign-compare]
   if(valVec.size() != 1+n+n*n){
      ~~~~~~~~~~~~~~^~~~~~~~~~
D:/biocbuild/bbs-3.15-bioc/R/library/cytolib/include/cytolib/compensation.hpp:62:21: warning: comparison of integer expressions of different signedness: 'std::vector<std::__cxx11::basic_string<char>, std::allocator<std::__cxx11::basic_string<char> > >::size_type' {aka 'long long unsigned int'} and 'int' [-Wsign-compare]
    if(valVec.size() == 1+n+2*n*n){
       ~~~~~~~~~~~~~~^~~~~~~~~~~~
D:/biocbuild/bbs-3.15-bioc/R/library/cytolib/include/cytolib/compensation.hpp:68:33: warning: comparison of integer expressions of different signedness: 'int' and 'std::vector<std::__cxx11::basic_string<char>, std::allocator<std::__cxx11::basic_string<char> > >::size_type' {aka 'long long unsigned int'} [-Wsign-compare]
     for(int i = 1+n, j = 1+n; i < valVec_fixed.size(); i++, j+=2)
                               ~~^~~~~~~~~~~~~~~~~~~~~
"C:/rtools40/mingw64/bin/"g++  -std=gnu++11 -I"D:/biocbuild/bbs-3.15-bioc/R/include" -DNDEBUG  -I'D:/biocbuild/bbs-3.15-bioc/R/library/Rcpp/include' -I'D:/biocbuild/bbs-3.15-bioc/R/library/RcppArmadillo/include' -I'D:/biocbuild/bbs-3.15-bioc/R/library/BH/include' -I'D:/biocbuild/bbs-3.15-bioc/R/library/cytolib/include' -I'D:/biocbuild/bbs-3.15-bioc/R/library/RProtoBufLib/include'   -I"C:/extsoft/include"     -O2 -Wall  -mfpmath=sse -msse2 -mstackrealign -fno-reorder-blocks-and-partition  -c poly_centroid.cpp -o poly_centroid.o
"C:/rtools40/mingw64/bin/"g++  -std=gnu++11 -I"D:/biocbuild/bbs-3.15-bioc/R/include" -DNDEBUG  -I'D:/biocbuild/bbs-3.15-bioc/R/library/Rcpp/include' -I'D:/biocbuild/bbs-3.15-bioc/R/library/RcppArmadillo/include' -I'D:/biocbuild/bbs-3.15-bioc/R/library/BH/include' -I'D:/biocbuild/bbs-3.15-bioc/R/library/cytolib/include' -I'D:/biocbuild/bbs-3.15-bioc/R/library/RProtoBufLib/include'   -I"C:/extsoft/include"     -O2 -Wall  -mfpmath=sse -msse2 -mstackrealign -fno-reorder-blocks-and-partition  -c sortBytes.cpp -o sortBytes.o
"C:/rtools40/mingw64/bin/"g++  -std=gnu++11 -I"D:/biocbuild/bbs-3.15-bioc/R/include" -DNDEBUG  -I'D:/biocbuild/bbs-3.15-bioc/R/library/Rcpp/include' -I'D:/biocbuild/bbs-3.15-bioc/R/library/RcppArmadillo/include' -I'D:/biocbuild/bbs-3.15-bioc/R/library/BH/include' -I'D:/biocbuild/bbs-3.15-bioc/R/library/cytolib/include' -I'D:/biocbuild/bbs-3.15-bioc/R/library/RProtoBufLib/include'   -I"C:/extsoft/include"     -O2 -Wall  -mfpmath=sse -msse2 -mstackrealign -fno-reorder-blocks-and-partition  -c uint2double.cpp -o uint2double.o
"C:/rtools40/mingw64/bin/"g++  -std=gnu++11 -I"D:/biocbuild/bbs-3.15-bioc/R/include" -DNDEBUG  -I'D:/biocbuild/bbs-3.15-bioc/R/library/Rcpp/include' -I'D:/biocbuild/bbs-3.15-bioc/R/library/RcppArmadillo/include' -I'D:/biocbuild/bbs-3.15-bioc/R/library/BH/include' -I'D:/biocbuild/bbs-3.15-bioc/R/library/cytolib/include' -I'D:/biocbuild/bbs-3.15-bioc/R/library/RProtoBufLib/include'   -I"C:/extsoft/include"     -O2 -Wall  -mfpmath=sse -msse2 -mstackrealign -fno-reorder-blocks-and-partition  -c zeroin.cpp -o zeroin.o
C:/rtools40/mingw64/bin/g++ -shared -s -static-libgcc -o flowCore.dll tmp.def FastLogicle.o Hyperlog.o Logicle.o RcppExports.o biexponential.o convertRawBytes.o fcsTextParse.o hyperlogTransform.o inPolygon.o inPolytope.o logicleTransform.o pairVectorRcppWrap.o poly_centroid.o sortBytes.o uint2double.o zeroin.o D:/biocbuild/bbs-3.15-bioc/R/library/cytolib/lib/x64/libcytolib.a D:/biocbuild/bbs-3.15-bioc/R/library/RProtoBufLib/lib/x64/GatingSet.pb.o -LD:/biocbuild/bbs-3.15-bioc/R/library/RProtoBufLib/lib/x64 -lprotobuf -LD:/biocbuild/bbs-3.15-bioc/R/library/Rhdf5lib/lib/x64 -lhdf5_cpp -lhdf5 -lcurl -lssh2 -lssl -lcrypto -lwldap32 -lws2_32 -lcrypt32 -lszip -lz -lpsapi -LD:/biocbuild/bbs-3.15-bioc/R/bin/x64 -lRlapack -LD:/biocbuild/bbs-3.15-bioc/R/bin/x64 -lRblas -lstdc++fs -LC:/extsoft/lib/x64 -LC:/extsoft/lib -LD:/biocbuild/bbs-3.15-bioc/R/bin/x64 -lR
if [ `uname -s` = 'Darwin' ]; then install_name_tool -change /usr/local/clang4/lib/libc++.1.dylib /usr/lib/libc++.1.dylib flowCore.dll; fi
installing to D:/biocbuild/bbs-3.15-bioc/R/library/00LOCK-flowCore/00new/flowCore/libs/x64
** R
** data
** inst
** byte-compile and prepare package for lazy loading
** help
*** installing help indices
  converting help for package 'flowCore'
    finding HTML links ... done
    CytoExploreR_exports                    html  
    EHtrans-class                           html  
    FCSTransTransform                       html  
    GvHD                                    html  
    Subset-methods                          html  
    arcsinhTransform                        html  
    asinht-class                            html  
    asinhtGml2-class                        html  
    biexponentialTransform                  html  
    boundaryFilter-class                    html  
    characterOrNumeric-class                html  
    characterOrParameters-class             html  
    characterOrTransformation-class         html  
    checkOffset                             html  
    coerce                                  html  
    collapse_desc                           html  
    compensatedParameter-class              html  
    compensation-class                      html  
    complementFilter-class                  html  
    concreteFilter-class                    html  
    decompensate                            html  
    dg1polynomial-class                     html  
    each_col                                html  
    ellipsoidGate-class                     html  
    estimateMedianLogicle                   html  
    exponential-class                       html  
    expressionFilter-class                  html  
    filter-and-methods                      html  
    filter-class                            html  
    filter-in-methods                       html  
    filter-methods                          html  
    filter-on-methods                       html  
    filterDetails-methods                   html  
    filterList-class                        html  
    filterReference-class                   html  
    filterResult-class                      html  
    filterResultList-class                  html  
    filterSummary-class                     html  
    filterSummaryList-class                 html  
    filters-class                           html  
    flowCore-package                        html  
    flowFrame-class                         html  
    flowSet-class                           html  
    flowSet_to_list                         html  
    fr_append_cols                          html  
    fsApply                                 html  
    getChannelMarker                        html  
    getIndexSort                            html  
    hyperlog-class                          html  
    hyperlogtGml2-class                     html  
    identifier-methods                      html  
    intersectFilter-class                   html  
    inverseLogicleTransform                 html  
    invsplitscale-class                     html  
    keyword-methods                         html  
    kmeansFilter-class                      html  
    linearTransform                         html  
    lintGml2-class                          html  
    lnTransform                             html  
    logTransform                            html  
    logarithm-class                         html  
    logicalFilterResult-class               html  
    logicleTransform                        html  
    logicletGml2-class                      html  
    logtGml2-class                          html  
    manyFilterResult-class                  html  
    markernames                             html  
    multipleFilterResult-class              html  
    normalization-class                     html  
    nullParameter-class                     html  
    parameterFilter-class                   html  
    parameterTransform-class                html  
    parameters-class                        html  
    parameters-methods                      html  
    polygonGate-class                       html  
    polytopeGate-class                      html  
    quadGate-class                          html  
    quadratic-class                         html  
    quadraticTransform                      html  
    randomFilterResult-class                html  
    ratio-class                             html  
    ratiotGml2-class                        html  
    read.FCS                                html  
    read.FCSheader                          html  
    read.flowSet                            html  
    rectangleGate-class                     html  
    rotate_gate                             html  
    sampleFilter-class                      html  
    scaleTransform                          html  
    scale_gate                              html  
    setOperationFilter-class                html  
    shift_gate                              html  
    singleParameterTransform-class          html  
    sinht-class                             html  
    split-methods                           html  
    splitScaleTransform                     html  
    splitscale-class                        html  
    squareroot-class                        html  
    subsetFilter-class                      html  
    summarizeFilter-methods                 html  
    timeFilter-class                        html  
    transform-class                         html  
    transform                               html  
    transformFilter-class                   html  
    transformList-class                     html  
    transformMap-class                      html  
    transformReference-class                html  
    transform_gate                          html  
    transformation-class                    html  
    truncateTransform                       html  
    unionFilter-class                       html  
    unitytransform-class                    html  
    updateTransformKeywords                 html  
    validFilters                            html  
    write.FCS                               html  
    write.flowSet                           html  
** building package indices
** installing vignettes
** testing if installed package can be loaded from temporary location
** testing if installed package can be loaded from final location
** testing if installed package keeps a record of temporary installation path
* DONE (flowCore)
Making 'packages.html' ...Warning in packageDescription(i, lib.loc = lib, fields = "Title", encoding = "UTF-8") :
  DESCRIPTION file of package 'VennDetail' is missing or broken
 done

Tests output

flowCore.Rcheck/tests/testthat.Rout


R Under development (unstable) (2021-11-21 r81221) -- "Unsuffered Consequences"
Copyright (C) 2021 The R Foundation for Statistical Computing
Platform: x86_64-w64-mingw32/x64 (64-bit)

R is free software and comes with ABSOLUTELY NO WARRANTY.
You are welcome to redistribute it under certain conditions.
Type 'license()' or 'licence()' for distribution details.

R is a collaborative project with many contributors.
Type 'contributors()' for more information and
'citation()' on how to cite R or R packages in publications.

Type 'demo()' for some demos, 'help()' for on-line help, or
'help.start()' for an HTML browser interface to help.
Type 'q()' to quit R.

> library(testthat)
> library(flowCore)
> library(flowStats)
> 
> 
> test_check("flowCore")
Loading required package: BiocGenerics

Attaching package: 'BiocGenerics'

The following object is masked from 'package:flowStats':

    normalize

The following object is masked from 'package:flowCore':

    normalize

The following objects are masked from 'package:stats':

    IQR, mad, sd, var, xtabs

The following objects are masked from 'package:base':

    Filter, Find, Map, Position, Reduce, anyDuplicated, append,
    as.data.frame, basename, cbind, colnames, dirname, do.call,
    duplicated, eval, evalq, get, grep, grepl, intersect, is.unsorted,
    lapply, mapply, match, mget, order, paste, pmax, pmax.int, pmin,
    pmin.int, rank, rbind, rownames, sapply, setdiff, sort, table,
    tapply, union, unique, unsplit, which.max, which.min

Welcome to Bioconductor

    Vignettes contain introductory material; view with
    'browseVignettes()'. To cite Bioconductor, see
    'citation("Biobase")', and for packages 'citation("pkgname")'.

[ FAIL 0 | WARN 190 | SKIP 3 | PASS 334 ]

== Skipped tests ===============================================================
* dir.exists(dataPath) is not TRUE (1)
* file.exists(filename) is not TRUE (2)

[ FAIL 0 | WARN 190 | SKIP 3 | PASS 334 ]
There were 36 warnings (use warnings() to see them)
> 
> #devtools::test("~/rglab/workspace/flowCore")
> 
> proc.time()
   user  system elapsed 
  14.03    2.01   16.37 

Example timings

flowCore.Rcheck/flowCore-Ex.timings

nameusersystemelapsed
EHtrans-class0.080.000.07
FCSTransTransform0.440.120.57
Subset-methods0.220.030.25
arcsinhTransform0.030.000.03
asinht-class0.030.000.03
asinhtGml2-class0.030.000.03
biexponentialTransform4.670.074.74
boundaryFilter-class0.070.000.06
characterOrNumeric-class000
characterOrParameters-class000
characterOrTransformation-class000
coerce0.040.000.05
collapse_desc0.490.120.60
compensatedParameter-class0.140.000.15
compensation-class0.250.050.29
decompensate0.040.030.08
dg1polynomial-class0.020.000.02
each_col0.030.000.03
ellipsoidGate-class0.080.000.08
exponential-class0.030.000.03
expressionFilter-class0.110.000.11
filter-methods0.630.120.75
filter-on-methods0.090.000.09
filterList-class0.010.000.02
filterResult-class000
filterResultList-class3.740.534.26
filterSummary-class0.050.040.08
filterSummaryList-class0.590.110.70
flowFrame-class3.390.373.77
flowSet-class2.190.252.44
fr_append_cols0.530.040.58
fsApply0.110.000.11
getIndexSort0.000.020.01
hyperlog-class0.860.010.87
hyperlogtGml2-class0.030.000.03
identifier-methods0.030.000.03
inverseLogicleTransform0.470.040.50
invsplitscale-class0.000.010.02
keyword-methods0.440.030.47
kmeansFilter-class0.090.000.09
linearTransform0.030.000.03
lintGml2-class0.020.000.02
lnTransform0.830.060.89
logTransform0.030.000.03
logarithm-class0.030.000.03
logicalFilterResult-class000
logicleTransform0.480.100.58
logicletGml2-class0.030.010.05
logtGml2-class0.040.000.03
manyFilterResult-class000
markernames0.420.070.48
multipleFilterResult-class000
parameters-methods0.010.000.02
polygonGate-class0.070.000.06
quadGate-class0.510.060.58
quadratic-class0.030.000.03
quadraticTransform0.050.000.05
ratio-class0.030.000.03
ratiotGml2-class0.030.000.03
read.FCS0.060.040.10
read.FCSheader000
read.flowSet0.130.000.12
rectangleGate-class0.080.000.08
rotate_gate000
sampleFilter-class0.040.000.05
scaleTransform0.020.010.03
scale_gate000
shift_gate000
singleParameterTransform-class000
sinht-class0.020.000.01
split-methods0.640.080.72
splitScaleTransform0.590.090.69
splitscale-class0.020.020.03
squareroot-class0.010.000.02
timeFilter-class1.250.091.34
transform-class000
transform0.720.080.80
transformFilter-class0.450.050.50
transformList-class0.420.060.49
transformMap-class000
transform_gate000
truncateTransform0.030.000.03
unitytransform-class0.020.000.02
write.FCS0.030.020.06
write.flowSet0.660.060.72