Name | Last modified | Size | Description | |
---|---|---|---|---|
Parent Directory | - | |||
install-summary.dcf | 30-Apr-2024 00:38 | 270 | ||
install-out.txt | 30-Apr-2024 00:38 | 237K | ||
checksrc-summary.dcf | 30-Apr-2024 00:38 | 457 | ||
checksrc-out.txt | 30-Apr-2024 00:38 | 7.5K | ||
buildsrc-summary.dcf | 30-Apr-2024 00:38 | 457 | ||
buildsrc-out.txt | 30-Apr-2024 00:38 | 1.3K | ||
buildbin-summary.dcf | 30-Apr-2024 00:38 | 520 | ||
buildbin-out.txt | 30-Apr-2024 00:38 | 237K | ||