![]() | Name | Last modified | Size | Description |
---|---|---|---|---|
![]() | Parent Directory | - | ||
![]() | buildbin-out.txt | 28-Sep-2023 00:37 | 7.1K | |
![]() | buildbin-summary.dcf | 28-Sep-2023 00:37 | 527 | |
![]() | buildsrc-out.txt | 28-Sep-2023 00:37 | 1.1K | |
![]() | buildsrc-summary.dcf | 28-Sep-2023 00:37 | 460 | |
![]() | checksrc-out.txt | 28-Sep-2023 00:37 | 7.4K | |
![]() | checksrc-summary.dcf | 28-Sep-2023 00:37 | 461 | |
![]() | install-out.txt | 28-Sep-2023 00:37 | 6.9K | |
![]() | install-summary.dcf | 28-Sep-2023 00:37 | 272 | |