![]() | Name | Last modified | Size | Description |
---|---|---|---|---|
![]() | Parent Directory | - | ||
![]() | buildsrc-out.txt | 23-Sep-2023 00:36 | 955 | |
![]() | buildsrc-summary.dcf | 23-Sep-2023 00:36 | 424 | |
![]() | checksrc-out.txt | 23-Sep-2023 00:36 | 7.8K | |
![]() | checksrc-summary.dcf | 23-Sep-2023 00:36 | 428 | |
![]() | install-out.txt | 23-Sep-2023 00:36 | 203K | |
![]() | install-summary.dcf | 23-Sep-2023 00:36 | 263 | |