Name | Last modified | Size | Description | |
---|---|---|---|---|
Parent Directory | - | |||
buildbin-out.txt | 18-Jul-2024 00:41 | 260K | ||
buildbin-summary.dcf | 18-Jul-2024 00:41 | 543 | ||
buildsrc-out.txt | 18-Jul-2024 00:41 | 965 | ||
buildsrc-summary.dcf | 18-Jul-2024 00:41 | 434 | ||
checksrc-out.txt | 18-Jul-2024 00:41 | 12K | ||
checksrc-summary.dcf | 18-Jul-2024 00:41 | 458 | ||
install-out.txt | 18-Jul-2024 00:41 | 257K | ||
install-summary.dcf | 18-Jul-2024 00:41 | 274 | ||