![]() | Name | Last modified | Size | Description |
---|---|---|---|---|
![]() | Parent Directory | - | ||
![]() | buildbin-out.txt | 26-Sep-2023 00:38 | 260K | |
![]() | buildbin-summary.dcf | 26-Sep-2023 00:38 | 542 | |
![]() | buildsrc-out.txt | 26-Sep-2023 00:38 | 965 | |
![]() | buildsrc-summary.dcf | 26-Sep-2023 00:38 | 432 | |
![]() | checksrc-out.txt | 26-Sep-2023 00:38 | 12K | |
![]() | checksrc-summary.dcf | 26-Sep-2023 00:38 | 458 | |
![]() | install-out.txt | 26-Sep-2023 00:38 | 258K | |
![]() | install-summary.dcf | 26-Sep-2023 00:38 | 274 | |