Name | Last modified | Size | Description | |
---|---|---|---|---|
Parent Directory | - | |||
install-summary.dcf | 12-Jun-2024 04:43 | 274 | ||
install-out.txt | 12-Jun-2024 04:43 | 253K | ||
buildsrc-out.txt | 12-Jun-2024 04:43 | 965 | ||
buildsrc-summary.dcf | 12-Jun-2024 04:43 | 434 | ||
checksrc-out.txt | 12-Jun-2024 04:43 | 12K | ||
checksrc-summary.dcf | 12-Jun-2024 04:43 | 458 | ||
buildbin-summary.dcf | 12-Jun-2024 04:43 | 543 | ||
buildbin-out.txt | 12-Jun-2024 04:43 | 256K | ||