Back to Multiple platform build/check report for BioC 3.16
ABCDE[F]GHIJKLMNOPQRSTUVWXYZ

This page was generated on 2022-06-24 11:06:27 -0400 (Fri, 24 Jun 2022).

HostnameOSArch (*)R versionInstalled pkgs
nebbiolo2Linux (Ubuntu 20.04.4 LTS)x86_644.2.0 Patched (2022-06-02 r82447) -- "Vigorous Calisthenics" 4331
palomino4Windows Server 2022 Datacenterx644.2.0 Patched (2022-06-02 r82447 ucrt) -- "Vigorous Calisthenics" 4136
lconwaymacOS 12.2.1 Montereyx86_644.2.0 Patched (2022-05-29 r82424) -- "Vigorous Calisthenics" 4147
Click on any hostname to see more info about the system (e.g. compilers)      (*) as reported by 'uname -p', except on Windows and Mac OS X

INSTALL results for flowCL on palomino4


To the developers/maintainers of the flowCL package:
- Please allow up to 24 hours (and sometimes 48 hours) for your latest push to git@git.bioconductor.org:packages/flowCL.git to
reflect on this report. See How and When does the builder pull? When will my changes propagate? for more information.
- Make sure to use the following settings in order to reproduce any error or warning you see on this page.

raw results

Package 668/2118HostnameOS / ArchINSTALLBUILDCHECKBUILD BIN
flowCL 1.35.0  (landing page)
Justin Meskas
Snapshot Date: 2022-06-23 14:00:04 -0400 (Thu, 23 Jun 2022)
git_url: https://git.bioconductor.org/packages/flowCL
git_branch: master
git_last_commit: ac50eb1
git_last_commit_date: 2022-04-26 11:19:14 -0400 (Tue, 26 Apr 2022)
nebbiolo2Linux (Ubuntu 20.04.4 LTS) / x86_64  ERROR    ERROR  skipped
palomino4Windows Server 2022 Datacenter / x64  ERROR    ERROR  skippedskipped
lconwaymacOS 12.2.1 Monterey / x86_64  ERROR    ERROR  skippedskipped

Summary

Package: flowCL
Version: 1.35.0
Command: C:\cygwin\bin\curl.exe -O http://155.52.207.166/BBS/3.16/bioc/src/contrib/flowCL_1.35.0.tar.gz && rm -rf flowCL.buildbin-libdir && mkdir flowCL.buildbin-libdir && F:\biocbuild\bbs-3.16-bioc\R\bin\R.exe CMD INSTALL --merge-multiarch --build --library=flowCL.buildbin-libdir flowCL_1.35.0.tar.gz && F:\biocbuild\bbs-3.16-bioc\R\bin\R.exe CMD INSTALL flowCL_1.35.0.zip && rm flowCL_1.35.0.tar.gz flowCL_1.35.0.zip
StartedAt: 2022-06-23 16:52:44 -0400 (Thu, 23 Jun 2022)
EndedAt: 2022-06-23 16:52:45 -0400 (Thu, 23 Jun 2022)
EllapsedTime: 0.6 seconds
RetCode: 1
Status:   ERROR  

Command output

##############################################################################
##############################################################################
###
### Running command:
###
###   C:\cygwin\bin\curl.exe -O http://155.52.207.166/BBS/3.16/bioc/src/contrib/flowCL_1.35.0.tar.gz && rm -rf flowCL.buildbin-libdir && mkdir flowCL.buildbin-libdir && F:\biocbuild\bbs-3.16-bioc\R\bin\R.exe CMD INSTALL --merge-multiarch --build --library=flowCL.buildbin-libdir flowCL_1.35.0.tar.gz && F:\biocbuild\bbs-3.16-bioc\R\bin\R.exe CMD INSTALL flowCL_1.35.0.zip && rm flowCL_1.35.0.tar.gz flowCL_1.35.0.zip
###
##############################################################################
##############################################################################


  % Total    % Received % Xferd  Average Speed   Time    Time     Time  Current
                                 Dload  Upload   Total   Spent    Left  Speed

  0     0    0     0    0     0      0      0 --:--:-- --:--:-- --:--:--     0
100  161k  100  161k    0     0  2290k      0 --:--:-- --:--:-- --:--:-- 2336k
only one architecture so ignoring '--merge-multiarch'
ERROR: dependency 'SPARQL' is not available for package 'flowCL'
* removing 'F:/biocbuild/bbs-3.16-bioc/meat/flowCL.buildbin-libdir/flowCL'