Back to Multiple platform build/check report for BioC 3.16
ABCDE[F]GHIJKLMNOPQRSTUVWXYZ

This page was generated on 2022-07-04 11:06:07 -0400 (Mon, 04 Jul 2022).

HostnameOSArch (*)R versionInstalled pkgs
nebbiolo2Linux (Ubuntu 20.04.4 LTS)x86_644.2.0 Patched (2022-06-02 r82447) -- "Vigorous Calisthenics" 4343
palomino4Windows Server 2022 Datacenterx644.2.0 Patched (2022-06-02 r82447 ucrt) -- "Vigorous Calisthenics" 4148
lconwaymacOS 12.2.1 Montereyx86_644.2.0 Patched (2022-05-29 r82424) -- "Vigorous Calisthenics" 4160
Click on any hostname to see more info about the system (e.g. compilers)      (*) as reported by 'uname -p', except on Windows and Mac OS X

CHECK results for flowBin on palomino4


To the developers/maintainers of the flowBin package:
- Please allow up to 24 hours (and sometimes 48 hours) for your latest push to git@git.bioconductor.org:packages/flowBin.git to
reflect on this report. See How and When does the builder pull? When will my changes propagate? for more information.
- Make sure to use the following settings in order to reproduce any error or warning you see on this page.

raw results

Package 667/2124HostnameOS / ArchINSTALLBUILDCHECKBUILD BIN
flowBin 1.33.0  (landing page)
Kieran O'Neill
Snapshot Date: 2022-07-03 14:00:03 -0400 (Sun, 03 Jul 2022)
git_url: https://git.bioconductor.org/packages/flowBin
git_branch: master
git_last_commit: 11a82dc
git_last_commit_date: 2022-04-26 11:17:22 -0400 (Tue, 26 Apr 2022)
nebbiolo2Linux (Ubuntu 20.04.4 LTS) / x86_64  OK    OK    OK  UNNEEDED, same version is already published
palomino4Windows Server 2022 Datacenter / x64  OK    OK    OK    OK  UNNEEDED, same version is already published
lconwaymacOS 12.2.1 Monterey / x86_64  OK    OK    OK    OK  UNNEEDED, same version is already published

Summary

Package: flowBin
Version: 1.33.0
Command: F:\biocbuild\bbs-3.16-bioc\R\bin\R.exe CMD check --force-multiarch --install=check:flowBin.install-out.txt --library=F:\biocbuild\bbs-3.16-bioc\R\library --no-vignettes --timings flowBin_1.33.0.tar.gz
StartedAt: 2022-07-04 01:40:16 -0400 (Mon, 04 Jul 2022)
EndedAt: 2022-07-04 01:41:39 -0400 (Mon, 04 Jul 2022)
EllapsedTime: 83.0 seconds
RetCode: 0
Status:   OK  
CheckDir: flowBin.Rcheck
Warnings: 0

Command output

##############################################################################
##############################################################################
###
### Running command:
###
###   F:\biocbuild\bbs-3.16-bioc\R\bin\R.exe CMD check --force-multiarch --install=check:flowBin.install-out.txt --library=F:\biocbuild\bbs-3.16-bioc\R\library --no-vignettes --timings flowBin_1.33.0.tar.gz
###
##############################################################################
##############################################################################


* using log directory 'F:/biocbuild/bbs-3.16-bioc/meat/flowBin.Rcheck'
* using R version 4.2.0 Patched (2022-06-02 r82447 ucrt)
* using platform: x86_64-w64-mingw32 (64-bit)
* using session charset: UTF-8
* using option '--no-vignettes'
* checking for file 'flowBin/DESCRIPTION' ... OK
* checking extension type ... Package
* this is package 'flowBin' version '1.33.0'
* checking package namespace information ... OK
* checking package dependencies ... OK
* checking if this is a source package ... OK
* checking if there is a namespace ... OK
* checking for hidden files and directories ... OK
* checking for portable file names ... OK
* checking whether package 'flowBin' can be installed ... OK
* checking installed package size ... OK
* checking package directory ... OK
* checking 'build' directory ... OK
* checking DESCRIPTION meta-information ... OK
* checking top-level files ... OK
* checking for left-over files ... OK
* checking index information ... OK
* checking package subdirectories ... OK
* checking R files for non-ASCII characters ... OK
* checking R files for syntax errors ... OK
* checking whether the package can be loaded ... OK
* checking whether the package can be loaded with stated dependencies ... OK
* checking whether the package can be unloaded cleanly ... OK
* checking whether the namespace can be loaded with stated dependencies ... OK
* checking whether the namespace can be unloaded cleanly ... OK
* checking dependencies in R code ... NOTE
Package in Depends field not imported from: 'flowCore'
  These packages need to be imported from (in the NAMESPACE file)
  for when this namespace is loaded but not attached.
* checking S3 generic/method consistency ... OK
* checking replacement functions ... OK
* checking foreign function calls ... OK
* checking R code for possible problems ... NOTE
.getBinExpr.def : getBinFrame: no visible global function definition
  for 'exprs<-'
.getBinExpr.def : getBinFrame: no visible global function definition
  for 'exprs'
.getBinExpr.def : scaleData: no visible global function definition for
  'pData'
.getBinExpr.def : getOnePopExpr : extractOneTube : <anonymous>: no
  visible global function definition for 'exprs'
.getBinExpr.def : getOnePopExpr : extractOneTube: no visible global
  function definition for 'pData'
.getBinExpr.def : getOneBinMeds : <anonymous>: no visible global
  function definition for 'median'
.getBinExpr.def : getOneBinMeds : <anonymous>: no visible global
  function definition for 'exprs'
.getBinExpr.def : getOneBinMeds: no visible global function definition
  for 'pData'
checkQNorm.func: no visible global function definition for 'flowSet'
checkQNorm.func: no visible global function definition for 'par'
checkQNorm.func: no visible binding for global variable 'sd'
flowFPBin.def: no visible global function definition for 'flowSet'
kMeansBin.def: no visible global function definition for 'exprs'
kMeansBin.def: no visible global function definition for 'pData'
kMeansBin.def: no visible global function definition for 'kmeans'
mapBinsKNN.def : mapClustersKNN: no visible global function definition
  for 'exprs'
mapBinsKNN.def: no visible global function definition for
  'capture.output'
mapBinsKNN.def: no visible global function definition for 'parLapply'
medianFI: no visible global function definition for 'median'
medianFIDist: no visible global function definition for 'median'
proportionPositive: no visible global function definition for
  'quantile'
qnorm.func : normCol : <anonymous>: no visible global function
  definition for 'exprs'
qnorm.func : normCol : getCol: no visible global function definition
  for 'exprs'
qnorm.func : normCol : getCol: no visible global function definition
  for 'runif'
qnorm.func : normCol : setCol: no visible global function definition
  for 'exprs'
qnorm.func : normCol : setCol: no visible global function definition
  for 'exprs<-'
checkQNorm,FlowSample-FlowSample: no visible global function definition
  for 'flowSet'
checkQNorm,FlowSample-FlowSample: no visible global function definition
  for 'par'
checkQNorm,FlowSample-FlowSample: no visible binding for global
  variable 'sd'
flowFPBin,FlowSample: no visible global function definition for
  'flowSet'
getBinExpr,BinnedFlowSample : getBinFrame: no visible global function
  definition for 'exprs<-'
getBinExpr,BinnedFlowSample : getBinFrame: no visible global function
  definition for 'exprs'
getBinExpr,BinnedFlowSample : scaleData: no visible global function
  definition for 'pData'
getBinExpr,BinnedFlowSample : getOnePopExpr : extractOneTube :
  <anonymous>: no visible global function definition for 'exprs'
getBinExpr,BinnedFlowSample : getOnePopExpr : extractOneTube: no
  visible global function definition for 'pData'
getBinExpr,BinnedFlowSample : getOneBinMeds : <anonymous>: no visible
  global function definition for 'median'
getBinExpr,BinnedFlowSample : getOneBinMeds : <anonymous>: no visible
  global function definition for 'exprs'
getBinExpr,BinnedFlowSample : getOneBinMeds: no visible global function
  definition for 'pData'
kMeansBin,FlowSample: no visible global function definition for 'exprs'
kMeansBin,FlowSample: no visible global function definition for 'pData'
kMeansBin,FlowSample: no visible global function definition for
  'kmeans'
mapBinsKNN,FlowSample : mapClustersKNN: no visible global function
  definition for 'exprs'
mapBinsKNN,FlowSample: no visible global function definition for
  'capture.output'
mapBinsKNN,FlowSample: no visible global function definition for
  'parLapply'
quantileNormalise,FlowSample : normCol : <anonymous>: no visible global
  function definition for 'exprs'
quantileNormalise,FlowSample : normCol : getCol: no visible global
  function definition for 'exprs'
quantileNormalise,FlowSample : normCol : getCol: no visible global
  function definition for 'runif'
quantileNormalise,FlowSample : normCol : setCol: no visible global
  function definition for 'exprs'
quantileNormalise,FlowSample : normCol : setCol: no visible global
  function definition for 'exprs<-'
show,FlowSample: no visible global function definition for 'str'
Undefined global functions or variables:
  capture.output exprs exprs<- flowSet kmeans median pData par
  parLapply quantile runif sd str
Consider adding
  importFrom("graphics", "par")
  importFrom("stats", "kmeans", "median", "quantile", "runif", "sd")
  importFrom("utils", "capture.output", "str")
to your NAMESPACE file.
* checking Rd files ... OK
* checking Rd metadata ... OK
* checking Rd cross-references ... OK
* checking for missing documentation entries ... OK
* checking for code/documentation mismatches ... OK
* checking Rd \usage sections ... OK
* checking Rd contents ... OK
* checking for unstated dependencies in examples ... OK
* checking contents of 'data' directory ... OK
* checking data for non-ASCII characters ... OK
* checking data for ASCII and uncompressed saves ... OK
* checking sizes of PDF files under 'inst/doc' ... OK
* checking files in 'vignettes' ... OK
* checking examples ... OK
Examples with CPU (user + system) or elapsed time > 5s
           user system elapsed
getBinExpr 5.36   0.06    5.42
flowBin    5.06   0.14    5.21
* checking for unstated dependencies in vignettes ... OK
* checking package vignettes in 'inst/doc' ... OK
* checking running R code from vignettes ... SKIPPED
* checking re-building of vignette outputs ... SKIPPED
* checking PDF version of manual ... OK
* DONE

Status: 2 NOTEs
See
  'F:/biocbuild/bbs-3.16-bioc/meat/flowBin.Rcheck/00check.log'
for details.



Installation output

flowBin.Rcheck/00install.out

##############################################################################
##############################################################################
###
### Running command:
###
###   C:\cygwin\bin\curl.exe -O http://155.52.207.166/BBS/3.16/bioc/src/contrib/flowBin_1.33.0.tar.gz && rm -rf flowBin.buildbin-libdir && mkdir flowBin.buildbin-libdir && F:\biocbuild\bbs-3.16-bioc\R\bin\R.exe CMD INSTALL --merge-multiarch --build --library=flowBin.buildbin-libdir flowBin_1.33.0.tar.gz && F:\biocbuild\bbs-3.16-bioc\R\bin\R.exe CMD INSTALL flowBin_1.33.0.zip && rm flowBin_1.33.0.tar.gz flowBin_1.33.0.zip
###
##############################################################################
##############################################################################


  % Total    % Received % Xferd  Average Speed   Time    Time     Time  Current
                                 Dload  Upload   Total   Spent    Left  Speed

  0     0    0     0    0     0      0      0 --:--:-- --:--:-- --:--:--     0
100  158k  100  158k    0     0  2159k      0 --:--:-- --:--:-- --:--:-- 2173k
only one architecture so ignoring '--merge-multiarch'
* installing *source* package 'flowBin' ...
** using staged installation
** R
** data
** inst
** byte-compile and prepare package for lazy loading
** help
*** installing help indices
** building package indices
** installing vignettes
** testing if installed package can be loaded from temporary location
** testing if installed package can be loaded from final location
** testing if installed package keeps a record of temporary installation path
* MD5 sums
packaged installation of 'flowBin' as flowBin_1.33.0.zip
* DONE (flowBin)
* installing to library 'F:/biocbuild/bbs-3.16-bioc/R/library'
package 'flowBin' successfully unpacked and MD5 sums checked

Tests output


Example timings

flowBin.Rcheck/flowBin-Ex.timings

nameusersystemelapsed
checkQNorm0.600.030.62
flowBin5.060.145.21
flowFPBin0.290.030.33
getBinExpr5.360.065.42
kMeansBin0.330.020.35
mapBinsKNN0.170.010.18
quantileNormalise0.360.080.44