Back to Multiple platform build/check report for BioC 3.16
ABCDE[F]GHIJKLMNOPQRSTUVWXYZ

This page was generated on 2022-07-04 11:06:07 -0400 (Mon, 04 Jul 2022).

HostnameOSArch (*)R versionInstalled pkgs
nebbiolo2Linux (Ubuntu 20.04.4 LTS)x86_644.2.0 Patched (2022-06-02 r82447) -- "Vigorous Calisthenics" 4343
palomino4Windows Server 2022 Datacenterx644.2.0 Patched (2022-06-02 r82447 ucrt) -- "Vigorous Calisthenics" 4148
lconwaymacOS 12.2.1 Montereyx86_644.2.0 Patched (2022-05-29 r82424) -- "Vigorous Calisthenics" 4160
Click on any hostname to see more info about the system (e.g. compilers)      (*) as reported by 'uname -p', except on Windows and Mac OS X

BUILD BIN results for flowBin on palomino4


To the developers/maintainers of the flowBin package:
- Please allow up to 24 hours (and sometimes 48 hours) for your latest push to git@git.bioconductor.org:packages/flowBin.git to
reflect on this report. See How and When does the builder pull? When will my changes propagate? for more information.
- Make sure to use the following settings in order to reproduce any error or warning you see on this page.

raw results

Package 667/2124HostnameOS / ArchINSTALLBUILDCHECKBUILD BIN
flowBin 1.33.0  (landing page)
Kieran O'Neill
Snapshot Date: 2022-07-03 14:00:03 -0400 (Sun, 03 Jul 2022)
git_url: https://git.bioconductor.org/packages/flowBin
git_branch: master
git_last_commit: 11a82dc
git_last_commit_date: 2022-04-26 11:17:22 -0400 (Tue, 26 Apr 2022)
nebbiolo2Linux (Ubuntu 20.04.4 LTS) / x86_64  OK    OK    OK  UNNEEDED, same version is already published
palomino4Windows Server 2022 Datacenter / x64  OK    OK    OK    OK  UNNEEDED, same version is already published
lconwaymacOS 12.2.1 Monterey / x86_64  OK    OK    OK    OK  UNNEEDED, same version is already published

Summary

Package: flowBin
Version: 1.33.0
Command: rm -rf flowBin.buildbin-libdir && mkdir flowBin.buildbin-libdir && F:\biocbuild\bbs-3.16-bioc\R\bin\R.exe CMD INSTALL --merge-multiarch --build --library=flowBin.buildbin-libdir flowBin_1.33.0.tar.gz
StartedAt: 2022-07-04 07:38:25 -0400 (Mon, 04 Jul 2022)
EndedAt: 2022-07-04 07:38:45 -0400 (Mon, 04 Jul 2022)
EllapsedTime: 20.0 seconds
RetCode: 0
Status:   OK  
PackageFile: flowBin_1.33.0.zip
PackageFileSize: 740.2 KiB

Command output

##############################################################################
##############################################################################
###
### Running command:
###
###   rm -rf flowBin.buildbin-libdir && mkdir flowBin.buildbin-libdir && F:\biocbuild\bbs-3.16-bioc\R\bin\R.exe CMD INSTALL --merge-multiarch --build --library=flowBin.buildbin-libdir flowBin_1.33.0.tar.gz
###
##############################################################################
##############################################################################


only one architecture so ignoring '--merge-multiarch'
* installing *source* package 'flowBin' ...
** using staged installation
** R
** data
** inst
** byte-compile and prepare package for lazy loading
** help
*** installing help indices
** building package indices
** installing vignettes
** testing if installed package can be loaded from temporary location
** testing if installed package can be loaded from final location
** testing if installed package keeps a record of temporary installation path
* MD5 sums
packaged installation of 'flowBin' as flowBin_1.33.0.zip
* DONE (flowBin)