Back to Multiple platform build/check report for BioC 3.16
ABCDE[F]GHIJKLMNOPQRSTUVWXYZ

This page was generated on 2022-06-24 11:06:26 -0400 (Fri, 24 Jun 2022).

HostnameOSArch (*)R versionInstalled pkgs
nebbiolo2Linux (Ubuntu 20.04.4 LTS)x86_644.2.0 Patched (2022-06-02 r82447) -- "Vigorous Calisthenics" 4331
palomino4Windows Server 2022 Datacenterx644.2.0 Patched (2022-06-02 r82447 ucrt) -- "Vigorous Calisthenics" 4136
lconwaymacOS 12.2.1 Montereyx86_644.2.0 Patched (2022-05-29 r82424) -- "Vigorous Calisthenics" 4147
Click on any hostname to see more info about the system (e.g. compilers)      (*) as reported by 'uname -p', except on Windows and Mac OS X

BUILD BIN results for fgsea on palomino4


To the developers/maintainers of the fgsea package:
- Please allow up to 24 hours (and sometimes 48 hours) for your latest push to git@git.bioconductor.org:packages/fgsea.git to
reflect on this report. See How and When does the builder pull? When will my changes propagate? for more information.
- Make sure to use the following settings in order to reproduce any error or warning you see on this page.

raw results

Package 655/2118HostnameOS / ArchINSTALLBUILDCHECKBUILD BIN
fgsea 1.23.0  (landing page)
Alexey Sergushichev
Snapshot Date: 2022-06-23 14:00:04 -0400 (Thu, 23 Jun 2022)
git_url: https://git.bioconductor.org/packages/fgsea
git_branch: master
git_last_commit: 2f42fb4
git_last_commit_date: 2022-04-26 11:33:18 -0400 (Tue, 26 Apr 2022)
nebbiolo2Linux (Ubuntu 20.04.4 LTS) / x86_64  OK    OK    OK  UNNEEDED, same version is already published
palomino4Windows Server 2022 Datacenter / x64  OK    OK    OK    OK  UNNEEDED, same version is already published
lconwaymacOS 12.2.1 Monterey / x86_64  OK    OK    OK    OK  UNNEEDED, same version is already published

Summary

Package: fgsea
Version: 1.23.0
Command: rm -rf fgsea.buildbin-libdir && mkdir fgsea.buildbin-libdir && F:\biocbuild\bbs-3.16-bioc\R\bin\R.exe CMD INSTALL --merge-multiarch --build --library=fgsea.buildbin-libdir fgsea_1.23.0.tar.gz
StartedAt: 2022-06-24 07:35:44 -0400 (Fri, 24 Jun 2022)
EndedAt: 2022-06-24 07:36:26 -0400 (Fri, 24 Jun 2022)
EllapsedTime: 42.6 seconds
RetCode: 0
Status:   OK  
PackageFile: fgsea_1.23.0.zip
PackageFileSize: 1.628 MiB

Command output

##############################################################################
##############################################################################
###
### Running command:
###
###   rm -rf fgsea.buildbin-libdir && mkdir fgsea.buildbin-libdir && F:\biocbuild\bbs-3.16-bioc\R\bin\R.exe CMD INSTALL --merge-multiarch --build --library=fgsea.buildbin-libdir fgsea_1.23.0.tar.gz
###
##############################################################################
##############################################################################


only one architecture so ignoring '--merge-multiarch'
* installing *source* package 'fgsea' ...
** using staged installation
** libs
g++  -std=gnu++11 -I"F:/biocbuild/bbs-3.16-bioc/R/include" -DNDEBUG  -I'F:/biocbuild/bbs-3.16-bioc/R/library/Rcpp/include' -I'F:/biocbuild/bbs-3.16-bioc/R/library/BH/include'   -I"C:/rtools42/x86_64-w64-mingw32.static.posix/include"     -O2 -Wall  -mfpmath=sse -msse2 -mstackrealign  -c RcppExports.cpp -o RcppExports.o
g++  -std=gnu++11 -I"F:/biocbuild/bbs-3.16-bioc/R/include" -DNDEBUG  -I'F:/biocbuild/bbs-3.16-bioc/R/library/Rcpp/include' -I'F:/biocbuild/bbs-3.16-bioc/R/library/BH/include'   -I"C:/rtools42/x86_64-w64-mingw32.static.posix/include"     -O2 -Wall  -mfpmath=sse -msse2 -mstackrealign  -c esCalculation.cpp -o esCalculation.o
g++  -std=gnu++11 -I"F:/biocbuild/bbs-3.16-bioc/R/include" -DNDEBUG  -I'F:/biocbuild/bbs-3.16-bioc/R/library/Rcpp/include' -I'F:/biocbuild/bbs-3.16-bioc/R/library/BH/include'   -I"C:/rtools42/x86_64-w64-mingw32.static.posix/include"     -O2 -Wall  -mfpmath=sse -msse2 -mstackrealign  -c fastGSEA.cpp -o fastGSEA.o
fastGSEA.cpp: In function 'Rcpp::NumericVector calcGseaStatBatchCpp(const NumericVector&, const List&, const IntegerVector&)':
fastGSEA.cpp:446:27: warning: comparison of integer expressions of different signedness: 'int' and 'std::vector<int>::size_type' {aka 'long long unsigned int'} [-Wsign-compare]
  446 |         for (int j = 0; j < S.size(); ++j) {
      |                         ~~^~~~~~~~~~
g++  -std=gnu++11 -I"F:/biocbuild/bbs-3.16-bioc/R/include" -DNDEBUG  -I'F:/biocbuild/bbs-3.16-bioc/R/library/Rcpp/include' -I'F:/biocbuild/bbs-3.16-bioc/R/library/BH/include'   -I"C:/rtools42/x86_64-w64-mingw32.static.posix/include"     -O2 -Wall  -mfpmath=sse -msse2 -mstackrealign  -c fgseaMultilevel.cpp -o fgseaMultilevel.o
In file included from F:/biocbuild/bbs-3.16-bioc/R/library/BH/include/boost/mpl/aux_/na_assert.hpp:23,
                 from F:/biocbuild/bbs-3.16-bioc/R/library/BH/include/boost/mpl/arg.hpp:25,
                 from F:/biocbuild/bbs-3.16-bioc/R/library/BH/include/boost/mpl/placeholders.hpp:24,
                 from F:/biocbuild/bbs-3.16-bioc/R/library/BH/include/boost/iterator/iterator_categories.hpp:16,
                 from F:/biocbuild/bbs-3.16-bioc/R/library/BH/include/boost/iterator/iterator_facade.hpp:13,
                 from F:/biocbuild/bbs-3.16-bioc/R/library/BH/include/boost/range/iterator_range_core.hpp:27,
                 from F:/biocbuild/bbs-3.16-bioc/R/library/BH/include/boost/lexical_cast.hpp:30,
                 from F:/biocbuild/bbs-3.16-bioc/R/library/BH/include/boost/math/tools/lexical_cast.hpp:12,
                 from F:/biocbuild/bbs-3.16-bioc/R/library/BH/include/boost/math/tools/convert_from_string.hpp:14,
                 from F:/biocbuild/bbs-3.16-bioc/R/library/BH/include/boost/math/constants/constants.hpp:14,
                 from F:/biocbuild/bbs-3.16-bioc/R/library/BH/include/boost/math/special_functions/digamma.hpp:20,
                 from fgseaMultilevelSupplement.h:9,
                 from fgseaMultilevel.cpp:2:
F:/biocbuild/bbs-3.16-bioc/R/library/BH/include/boost/mpl/assert.hpp:194:21: warning: unnecessary parentheses in declaration of 'assert_arg' [-Wparentheses]
  194 | failed ************ (Pred::************
      |                     ^
F:/biocbuild/bbs-3.16-bioc/R/library/BH/include/boost/mpl/assert.hpp:199:21: warning: unnecessary parentheses in declaration of 'assert_not_arg' [-Wparentheses]
  199 | failed ************ (boost::mpl::not_<Pred>::************
      |                     ^
fgseaMultilevel.cpp: In function 'Rcpp::DataFrame fgseaMultilevelCpp(const NumericVector&, const NumericVector&, int, int, int, double, bool)':
fgseaMultilevel.cpp:10:23: warning: comparison of integer expressions of different signedness: 'int' and 'std::vector<double>::size_type' {aka 'long long unsigned int'} [-Wsign-compare]
   10 |     for (int i = 0; i < posRanks.size(); i++) {
      |                     ~~^~~~~~~~~~~~~~~~~
g++  -std=gnu++11 -I"F:/biocbuild/bbs-3.16-bioc/R/include" -DNDEBUG  -I'F:/biocbuild/bbs-3.16-bioc/R/library/Rcpp/include' -I'F:/biocbuild/bbs-3.16-bioc/R/library/BH/include'   -I"C:/rtools42/x86_64-w64-mingw32.static.posix/include"     -O2 -Wall  -mfpmath=sse -msse2 -mstackrealign  -c fgseaMultilevelSupplement.cpp -o fgseaMultilevelSupplement.o
In file included from F:/biocbuild/bbs-3.16-bioc/R/library/BH/include/boost/mpl/aux_/na_assert.hpp:23,
                 from F:/biocbuild/bbs-3.16-bioc/R/library/BH/include/boost/mpl/arg.hpp:25,
                 from F:/biocbuild/bbs-3.16-bioc/R/library/BH/include/boost/mpl/placeholders.hpp:24,
                 from F:/biocbuild/bbs-3.16-bioc/R/library/BH/include/boost/iterator/iterator_categories.hpp:16,
                 from F:/biocbuild/bbs-3.16-bioc/R/library/BH/include/boost/iterator/iterator_facade.hpp:13,
                 from F:/biocbuild/bbs-3.16-bioc/R/library/BH/include/boost/range/iterator_range_core.hpp:27,
                 from F:/biocbuild/bbs-3.16-bioc/R/library/BH/include/boost/lexical_cast.hpp:30,
                 from F:/biocbuild/bbs-3.16-bioc/R/library/BH/include/boost/math/tools/lexical_cast.hpp:12,
                 from F:/biocbuild/bbs-3.16-bioc/R/library/BH/include/boost/math/tools/convert_from_string.hpp:14,
                 from F:/biocbuild/bbs-3.16-bioc/R/library/BH/include/boost/math/constants/constants.hpp:14,
                 from F:/biocbuild/bbs-3.16-bioc/R/library/BH/include/boost/math/special_functions/digamma.hpp:20,
                 from fgseaMultilevelSupplement.h:9,
                 from fgseaMultilevelSupplement.cpp:1:
F:/biocbuild/bbs-3.16-bioc/R/library/BH/include/boost/mpl/assert.hpp:194:21: warning: unnecessary parentheses in declaration of 'assert_arg' [-Wparentheses]
  194 | failed ************ (Pred::************
      |                     ^
F:/biocbuild/bbs-3.16-bioc/R/library/BH/include/boost/mpl/assert.hpp:199:21: warning: unnecessary parentheses in declaration of 'assert_not_arg' [-Wparentheses]
  199 | failed ************ (boost::mpl::not_<Pred>::************
      |                     ^
fgseaMultilevelSupplement.cpp: In member function 'void EsRuler::duplicateSamples()':
fgseaMultilevelSupplement.cpp:44:37: warning: comparison of integer expressions of different signedness: 'int' and 'const unsigned int' [-Wsign-compare]
   44 |     for (int sampleId = 0; sampleId < sampleSize; sampleId++) {
      |                            ~~~~~~~~~^~~~~~~~~~~~
fgseaMultilevelSupplement.cpp:54:41: warning: comparison of integer expressions of different signedness: 'int' and 'const unsigned int' [-Wsign-compare]
   54 |     for (int sampleId = 0; 2 * sampleId < sampleSize; sampleId++) {
      |                            ~~~~~~~~~~~~~^~~~~~~~~~~~
fgseaMultilevelSupplement.cpp:63:41: warning: comparison of integer expressions of different signedness: 'int' and 'unsigned int' [-Wsign-compare]
   63 |     for (int sampleId = 0; 2 * sampleId < sampleSize - 2; sampleId++) {
      |                            ~~~~~~~~~~~~~^~~~~~~~~~~~~~~~
fgseaMultilevelSupplement.cpp: In member function 'void EsRuler::extend(double, int, double)':
fgseaMultilevelSupplement.cpp:77:37: warning: comparison of integer expressions of different signedness: 'int' and 'const unsigned int' [-Wsign-compare]
   77 |     for (int sampleId = 0; sampleId < sampleSize; sampleId++) {
      |                            ~~~~~~~~~^~~~~~~~~~~~
fgseaMultilevelSupplement.cpp:81:16: warning: unused variable 'currentES' [-Wunused-variable]
   81 |         double currentES = calcES(ranks, currentSamples[sampleId]);
      |                ^~~~~~~~~
fgseaMultilevelSupplement.cpp:94:31: warning: comparison of integer expressions of different signedness: 'int' and 'const unsigned int' [-Wsign-compare]
   94 |             for (int j = 0; j < sampleSize; ++j) {
      |                             ~~^~~~~~~~~~~~
fgseaMultilevelSupplement.cpp:101:27: warning: comparison of integer expressions of different signedness: 'int' and 'const unsigned int' [-Wsign-compare]
  101 |         for (int i = 0; i < sampleSize; ++i) {
      |                         ~~^~~~~~~~~~~~
fgseaMultilevelSupplement.cpp:116:35: warning: comparison of integer expressions of different signedness: 'int' and 'unsigned int' [-Wsign-compare]
  116 |         for (int moves = 0; moves < sampleSize * pathwaySize;) {
      |                             ~~~~~~^~~~~~~~~~~~~~~~~~~~~~~~~~
fgseaMultilevelSupplement.cpp:117:45: warning: comparison of integer expressions of different signedness: 'int' and 'const unsigned int' [-Wsign-compare]
  117 |             for (int sampleId = 0; sampleId < sampleSize; sampleId++) {
      |                                    ~~~~~~~~~^~~~~~~~~~~~
fgseaMultilevelSupplement.cpp:122:27: warning: comparison of integer expressions of different signedness: 'int' and 'const unsigned int' [-Wsign-compare]
  122 |         for (int i = 0; i < sampleSize; ++i) {
      |                         ~~^~~~~~~~~~~~
fgseaMultilevelSupplement.cpp: In member function 'int EsRuler::perturbate(const std::vector<double>&, int, EsRuler::SampleChunks&, double, std::mt19937&)':
fgseaMultilevelSupplement.cpp:264:14: warning: unused variable 'fl' [-Wunused-variable]
  264 |         bool fl = false;
      |              ^~
g++  -std=gnu++11 -I"F:/biocbuild/bbs-3.16-bioc/R/include" -DNDEBUG  -I'F:/biocbuild/bbs-3.16-bioc/R/library/Rcpp/include' -I'F:/biocbuild/bbs-3.16-bioc/R/library/BH/include'   -I"C:/rtools42/x86_64-w64-mingw32.static.posix/include"     -O2 -Wall  -mfpmath=sse -msse2 -mstackrealign  -c util.cpp -o util.o
g++ -shared -s -static-libgcc -o fgsea.dll tmp.def RcppExports.o esCalculation.o fastGSEA.o fgseaMultilevel.o fgseaMultilevelSupplement.o util.o -LC:/rtools42/x86_64-w64-mingw32.static.posix/lib/x64 -LC:/rtools42/x86_64-w64-mingw32.static.posix/lib -LF:/biocbuild/bbs-3.16-bioc/R/bin/x64 -lR
installing to F:/biocbuild/bbs-3.16-bioc/meat/fgsea.buildbin-libdir/00LOCK-fgsea/00new/fgsea/libs/x64
** R
** data
*** moving datasets to lazyload DB
** inst
** byte-compile and prepare package for lazy loading
** help
*** installing help indices
** building package indices
** installing vignettes
** testing if installed package can be loaded from temporary location
** testing if installed package can be loaded from final location
** testing if installed package keeps a record of temporary installation path
* MD5 sums
packaged installation of 'fgsea' as fgsea_1.23.0.zip
* DONE (fgsea)