Index of /checkResults/devel/bioc-LATEST/fgga/raw-results
Name
Last modified
Size
Description
Parent Directory
-
info.dcf
17-Aug-2022 00:07
270
kjohnson/
12-Jul-2022 00:06
-
lconway/
17-Aug-2022 00:07
-
nebbiolo2/
17-Aug-2022 00:05
-
palomino4/
17-Aug-2022 00:06
-