Index of /checkResults/devel/bioc-LATEST/ffpe/raw-results

[ICO]NameLast modifiedSizeDescription

[DIR]Parent Directory  -  
[   ]info.dcf19-Mar-2023 00:06 266  
[DIR]merida1/19-Mar-2023 00:06 -  
[DIR]nebbiolo1/19-Mar-2023 00:04 -  
[DIR]palomino3/19-Mar-2023 00:05 -